BEGIN:VCALENDAR
VERSION:2.0
PRODID:-//Cellardoor Winery - ECPv6.15.20//NONSGML v1.0//EN
CALSCALE:GREGORIAN
METHOD:PUBLISH
X-WR-CALNAME:Cellardoor Winery
X-ORIGINAL-URL:https://mainewine.com
X-WR-CALDESC:Events for Cellardoor Winery
REFRESH-INTERVAL;VALUE=DURATION:PT1H
X-Robots-Tag:noindex
X-PUBLISHED-TTL:PT1H
BEGIN:VTIMEZONE
TZID:America/New_York
BEGIN:DAYLIGHT
TZOFFSETFROM:-0500
TZOFFSETTO:-0400
TZNAME:EDT
DTSTART:20180311T070000
END:DAYLIGHT
BEGIN:STANDARD
TZOFFSETFROM:-0400
TZOFFSETTO:-0500
TZNAME:EST
DTSTART:20181104T060000
END:STANDARD
BEGIN:DAYLIGHT
TZOFFSETFROM:-0500
TZOFFSETTO:-0400
TZNAME:EDT
DTSTART:20190310T070000
END:DAYLIGHT
BEGIN:STANDARD
TZOFFSETFROM:-0400
TZOFFSETTO:-0500
TZNAME:EST
DTSTART:20191103T060000
END:STANDARD
BEGIN:DAYLIGHT
TZOFFSETFROM:-0500
TZOFFSETTO:-0400
TZNAME:EDT
DTSTART:20200308T070000
END:DAYLIGHT
BEGIN:STANDARD
TZOFFSETFROM:-0400
TZOFFSETTO:-0500
TZNAME:EST
DTSTART:20201101T060000
END:STANDARD
END:VTIMEZONE
BEGIN:VTIMEZONE
TZID:America/New_York
BEGIN:DAYLIGHT
TZOFFSETFROM:-0500
TZOFFSETTO:-0400
TZNAME:EDT
DTSTART:20180311T070000
END:DAYLIGHT
BEGIN:STANDARD
TZOFFSETFROM:-0400
TZOFFSETTO:-0500
TZNAME:EST
DTSTART:20181104T060000
END:STANDARD
BEGIN:DAYLIGHT
TZOFFSETFROM:-0500
TZOFFSETTO:-0400
TZNAME:EDT
DTSTART:20190310T070000
END:DAYLIGHT
BEGIN:STANDARD
TZOFFSETFROM:-0400
TZOFFSETTO:-0500
TZNAME:EST
DTSTART:20191103T060000
END:STANDARD
BEGIN:DAYLIGHT
TZOFFSETFROM:-0500
TZOFFSETTO:-0400
TZNAME:EDT
DTSTART:20200308T070000
END:DAYLIGHT
BEGIN:STANDARD
TZOFFSETFROM:-0400
TZOFFSETTO:-0500
TZNAME:EST
DTSTART:20201101T060000
END:STANDARD
END:VTIMEZONE
BEGIN:VEVENT
DTSTART;TZID=America/New_York:20190901T120000
DTEND;TZID=America/New_York:20190901T150000
DTSTAMP:20260423T061531
CREATED:20190504T211008Z
LAST-MODIFIED:20190504T211020Z
UID:10000548-1567339200-1567350000@mainewine.com
SUMMARY:Complimentary Pairings featuring Fiore
DESCRIPTION:Join the Cellardoor team in Lincolnville for a complimentary food and wine pairing featuring three bites featuring Fiore Artisan Olive Oils and Vinegars paired with Cellardoor wine.
URL:https://mainewine.com/event/complimentary-pairings-fiore-2-2-2/
LOCATION:CELLARDOOR WINERY\, 367 YOUNGTOWN RD\, LINCOLNVILLE\, ME\, 04849-5427\, United States
CATEGORIES:Lincolnville,Wine Pairings
ATTACH;FMTTYPE=image/jpeg:https://mainewine.com/wp-content/uploads/Fiore.jpg
END:VEVENT
BEGIN:VEVENT
DTSTART;TZID=America/New_York:20190904T170000
DTEND;TZID=America/New_York:20190904T190000
DTSTAMP:20260423T061531
CREATED:20190808T162011Z
LAST-MODIFIED:20190808T185749Z
UID:10000570-1567616400-1567623600@mainewine.com
SUMMARY:Wednesday Pairings featuring Suga Suga
DESCRIPTION:On Wednesday\, September 4\, enjoy three nibbles created by Portland’s own Suga Suga. Join us as we explore how food and wine are elevated to new heights when paired together. Three bites\, three wines\, only $10!
URL:https://mainewine.com/event/wednesday-pairings-featuring-suga-suga/
LOCATION:ME
CATEGORIES:Portland,Wine Pairings
ATTACH;FMTTYPE=image/jpeg:https://mainewine.com/wp-content/uploads/sugasuga-1.jpg
END:VEVENT
BEGIN:VEVENT
DTSTART;TZID=America/New_York:20190905T170000
DTEND;TZID=America/New_York:20190905T190000
DTSTAMP:20260423T061531
CREATED:20190718T222506Z
LAST-MODIFIED:20190718T222506Z
UID:10000565-1567702800-1567710000@mainewine.com
SUMMARY:Art Nights at Cellardoor: Make Your Own Wine Glass Charms
DESCRIPTION:Join Cellardoor and Art Night Out for a night of creativity! Ticket includes materials to create your very own wine glass charms\, two glasses of wine\, and light refreshments.
URL:https://mainewine.com/event/art-nights-at-cellardoor-make-your-own-wine-glass-charms/
LOCATION:ME
CATEGORIES:Portland,Sounds of Summer
ATTACH;FMTTYPE=image/png:https://mainewine.com/wp-content/uploads/ARTNIGHTOUT.png
END:VEVENT
BEGIN:VEVENT
DTSTART;TZID=America/New_York:20190906T163000
DTEND;TZID=America/New_York:20190906T193000
DTSTAMP:20260423T061531
CREATED:20190829T151951Z
LAST-MODIFIED:20190829T151951Z
UID:10000443-1567787400-1567798200@mainewine.com
SUMMARY:Wine and Vinyls
DESCRIPTION:Join us on Friday\, September 6 for a Pop-Up with Light of Day Records from 4:30 – 7:30 pm. Chris will be spinning records\, all of which will be available for purchase!
URL:https://mainewine.com/event/wine-and-vinyls/
LOCATION:ME
CATEGORIES:Portland
ATTACH;FMTTYPE=image/jpeg:https://mainewine.com/wp-content/uploads/vinyls.jpg
END:VEVENT
BEGIN:VEVENT
DTSTART;TZID=America/New_York:20190908T120000
DTEND;TZID=America/New_York:20190908T150000
DTSTAMP:20260423T061531
CREATED:20190506T173240Z
LAST-MODIFIED:20190506T173303Z
UID:10000422-1567944000-1567954800@mainewine.com
SUMMARY:Complimentary Pairings featuring Lakin's Gorges Cheese
DESCRIPTION:Join the Cellardoor team in Lincolnville for a complimentary food and wine pairing featuring three bites of Lakin’s Gorges Cheese paired with Cellardoor wine.
URL:https://mainewine.com/event/complimentary-pairings-featuring-lakin-2-2-2/
LOCATION:CELLARDOOR WINERY\, 367 YOUNGTOWN RD\, LINCOLNVILLE\, ME\, 04849-5427\, United States
CATEGORIES:Lincolnville,Wine Pairings
ATTACH;FMTTYPE=image/jpeg:https://mainewine.com/wp-content/uploads/Lakin.jpg
END:VEVENT
BEGIN:VEVENT
DTSTART;TZID=America/New_York:20190911T170000
DTEND;TZID=America/New_York:20190911T190000
DTSTAMP:20260423T061531
CREATED:20190808T162958Z
LAST-MODIFIED:20190808T162958Z
UID:10000436-1568221200-1568228400@mainewine.com
SUMMARY:Wednesday Pairings featuring Two Fat Cats
DESCRIPTION:On Wednesday\, September 11\, enjoy three nibbles created by Two Fat Cats Bakery. Join us as we explore how food and wine are elevated to new heights when paired together. Three bites\, three wines\, only $10!
URL:https://mainewine.com/event/wednesday-pairings-featuring-two-fat-cats/
LOCATION:ME
CATEGORIES:Portland,Wine Pairings
ATTACH;FMTTYPE=image/jpeg:https://mainewine.com/wp-content/uploads/twofatcats2.jpg
END:VEVENT
BEGIN:VEVENT
DTSTART;TZID=America/New_York:20190915T120000
DTEND;TZID=America/New_York:20190915T150000
DTSTAMP:20260423T061531
CREATED:20190506T173351Z
LAST-MODIFIED:20190506T173351Z
UID:10000423-1568548800-1568559600@mainewine.com
SUMMARY:Complimentary Pairings featuring Harvest Moon Catering
DESCRIPTION:Join the Cellardoor team in Lincolnville for a complimentary food and wine pairing featuring three bites featuring Harvest Moon Catering paired with Cellardoor wine.
URL:https://mainewine.com/event/complimentary-pairings-harvest-moon-catering-2/
LOCATION:CELLARDOOR WINERY\, 367 YOUNGTOWN RD\, LINCOLNVILLE\, ME\, 04849-5427\, United States
CATEGORIES:Lincolnville,Wine Pairings
ATTACH;FMTTYPE=image/jpeg:https://mainewine.com/wp-content/uploads/OctNovDecPoint2-452.jpg
END:VEVENT
BEGIN:VEVENT
DTSTART;TZID=America/New_York:20190918T170000
DTEND;TZID=America/New_York:20190918T190000
DTSTAMP:20260423T061531
CREATED:20190717T180534Z
LAST-MODIFIED:20190717T180534Z
UID:10000562-1568826000-1568833200@mainewine.com
SUMMARY:Wednesday Pairings featuring Grillin' Brazilian
DESCRIPTION:On Wednesday\, September 18\, we’re excited to welcome Grillin’ Brazilian to the dining room. Join us as we explore how food and wine are elevated to new heights when paired together. Three bites\, three wines\, only $10!
URL:https://mainewine.com/event/wednesday-pairings-grillin-brazilian-2-2/
LOCATION:ME
CATEGORIES:Portland,Wine Pairings
ATTACH;FMTTYPE=image/jpeg:https://mainewine.com/wp-content/uploads/brillbrazil-23.jpg
END:VEVENT
BEGIN:VEVENT
DTSTART;TZID=America/New_York:20190920T173000
DTEND;TZID=America/New_York:20190920T193000
DTSTAMP:20260423T061531
CREATED:20190906T185315Z
LAST-MODIFIED:20190919T182309Z
UID:10000444-1569000600-1569007800@mainewine.com
SUMMARY:Live Music: Shadowbox
DESCRIPTION:Wine down with Cellardoor and the live music of Shadowbox on Friday\, September 20\, from 5:30 – 7:30 pm. \nShadowbox plays everything from Tom Waits to Fats Domino to Frank Sinatra and originals.
URL:https://mainewine.com/event/live-music-shadowbox/
LOCATION:ME
CATEGORIES:Portland
ATTACH;FMTTYPE=image/jpeg:https://mainewine.com/wp-content/uploads/shadowbox.jpg
END:VEVENT
BEGIN:VEVENT
DTSTART;TZID=America/New_York:20190922T120000
DTEND;TZID=America/New_York:20190922T150000
DTSTAMP:20260423T061531
CREATED:20190506T174020Z
LAST-MODIFIED:20190920T175624Z
UID:10000424-1569153600-1569164400@mainewine.com
SUMMARY:Complimentary Pairings featuring Bettina!
DESCRIPTION:Join the Cellardoor team in Lincolnville for a complimentary food and wine pairing featuring three bites featuring nibbles by Bettina paired with Cellardoor wine.
URL:https://mainewine.com/event/complimentary-pairings-harvest-moon-catering-2-2/
LOCATION:CELLARDOOR WINERY\, 367 YOUNGTOWN RD\, LINCOLNVILLE\, ME\, 04849-5427\, United States
CATEGORIES:Lincolnville,Wine Pairings
ATTACH;FMTTYPE=image/jpeg:https://mainewine.com/wp-content/uploads/Sunflower_B.jpeg
END:VEVENT
BEGIN:VEVENT
DTSTART;TZID=America/New_York:20190925T170000
DTEND;TZID=America/New_York:20190925T190000
DTSTAMP:20260423T061531
CREATED:20190808T161315Z
LAST-MODIFIED:20190808T161315Z
UID:10000567-1569430800-1569438000@mainewine.com
SUMMARY:Wednesday Pairings featuring Fiore Artisan Olive Oils & Vinegars
DESCRIPTION:On Wednesday\, September 25\, enjoy small bites featuring products by Fiore Artisan Olive Oils & Vinegars. Join us as we explore how food and wine are elevated to new heights when paired together. Three bites\, three wines\, only $10!
URL:https://mainewine.com/event/wednesday-pairings-featuring-fiore-2/
LOCATION:ME
CATEGORIES:Portland,Wine Pairings
ATTACH;FMTTYPE=image/jpeg:https://mainewine.com/wp-content/uploads/jaypairings.jpg
END:VEVENT
BEGIN:VEVENT
DTSTART;TZID=America/New_York:20190928T120000
DTEND;TZID=America/New_York:20190928T160000
DTSTAMP:20260423T061531
CREATED:20190513T190437Z
LAST-MODIFIED:20190718T145800Z
UID:10000555-1569672000-1569686400@mainewine.com
SUMMARY:Food Truck Saturday: Mama Baldacci
DESCRIPTION:The Mama Baldacci food truck will be stationed at Cellardoor Winery serving up italian favorites and comfort food with a twist. Visit between 12:00 pm to 4:00 pm to enjoy a snack or a meal with a glass of Cellardoor wine.
URL:https://mainewine.com/event/food-truck-saturday-mama-baldacci-2/
LOCATION:CELLARDOOR WINERY\, 367 YOUNGTOWN RD\, LINCOLNVILLE\, ME\, 04849-5427\, United States
CATEGORIES:Lincolnville,Other
ATTACH;FMTTYPE=image/png:https://mainewine.com/wp-content/uploads/FOODTRUCK2.png
END:VEVENT
BEGIN:VEVENT
DTSTART;TZID=America/New_York:20190929T120000
DTEND;TZID=America/New_York:20190929T150000
DTSTAMP:20260423T061531
CREATED:20190504T211222Z
LAST-MODIFIED:20190506T210544Z
UID:10000550-1569758400-1569769200@mainewine.com
SUMMARY:Complimentary Pairings featuring Laugh Loud Smile Big Cupcakes
DESCRIPTION:Join the Cellardoor team in Lincolnville for a complimentary food and wine pairing featuring different Laugh Loud Smile Big Cupcakes paired with Cellardoor wine.
URL:https://mainewine.com/event/complimentary-pairings-featuring-laugh-loud-smile-big-cupcakes-2/
LOCATION:CELLARDOOR WINERY\, 367 YOUNGTOWN RD\, LINCOLNVILLE\, ME\, 04849-5427\, United States
CATEGORIES:Lincolnville,Wine Pairings
ATTACH;FMTTYPE=image/jpeg:https://mainewine.com/wp-content/uploads/cupcake.jpg
END:VEVENT
END:VCALENDAR