BEGIN:VCALENDAR
VERSION:2.0
PRODID:-//Cellardoor Winery - ECPv6.15.20//NONSGML v1.0//EN
CALSCALE:GREGORIAN
METHOD:PUBLISH
X-WR-CALNAME:Cellardoor Winery
X-ORIGINAL-URL:https://mainewine.com
X-WR-CALDESC:Events for Cellardoor Winery
REFRESH-INTERVAL;VALUE=DURATION:PT1H
X-Robots-Tag:noindex
X-PUBLISHED-TTL:PT1H
BEGIN:VTIMEZONE
TZID:America/New_York
BEGIN:DAYLIGHT
TZOFFSETFROM:-0500
TZOFFSETTO:-0400
TZNAME:EDT
DTSTART:20190310T070000
END:DAYLIGHT
BEGIN:STANDARD
TZOFFSETFROM:-0400
TZOFFSETTO:-0500
TZNAME:EST
DTSTART:20191103T060000
END:STANDARD
BEGIN:DAYLIGHT
TZOFFSETFROM:-0500
TZOFFSETTO:-0400
TZNAME:EDT
DTSTART:20200308T070000
END:DAYLIGHT
BEGIN:STANDARD
TZOFFSETFROM:-0400
TZOFFSETTO:-0500
TZNAME:EST
DTSTART:20201101T060000
END:STANDARD
BEGIN:DAYLIGHT
TZOFFSETFROM:-0500
TZOFFSETTO:-0400
TZNAME:EDT
DTSTART:20210314T070000
END:DAYLIGHT
BEGIN:STANDARD
TZOFFSETFROM:-0400
TZOFFSETTO:-0500
TZNAME:EST
DTSTART:20211107T060000
END:STANDARD
BEGIN:DAYLIGHT
TZOFFSETFROM:-0500
TZOFFSETTO:-0400
TZNAME:EDT
DTSTART:20220313T070000
END:DAYLIGHT
BEGIN:STANDARD
TZOFFSETFROM:-0400
TZOFFSETTO:-0500
TZNAME:EST
DTSTART:20221106T060000
END:STANDARD
BEGIN:DAYLIGHT
TZOFFSETFROM:-0500
TZOFFSETTO:-0400
TZNAME:EDT
DTSTART:20230312T070000
END:DAYLIGHT
BEGIN:STANDARD
TZOFFSETFROM:-0400
TZOFFSETTO:-0500
TZNAME:EST
DTSTART:20231105T060000
END:STANDARD
BEGIN:DAYLIGHT
TZOFFSETFROM:-0500
TZOFFSETTO:-0400
TZNAME:EDT
DTSTART:20240310T070000
END:DAYLIGHT
BEGIN:STANDARD
TZOFFSETFROM:-0400
TZOFFSETTO:-0500
TZNAME:EST
DTSTART:20241103T060000
END:STANDARD
BEGIN:DAYLIGHT
TZOFFSETFROM:-0500
TZOFFSETTO:-0400
TZNAME:EDT
DTSTART:20250309T070000
END:DAYLIGHT
BEGIN:STANDARD
TZOFFSETFROM:-0400
TZOFFSETTO:-0500
TZNAME:EST
DTSTART:20251102T060000
END:STANDARD
END:VTIMEZONE
BEGIN:VEVENT
DTSTART;TZID=America/New_York:20200129T170000
DTEND;TZID=America/New_York:20200129T190000
DTSTAMP:20260419T102021
CREATED:20200105T190954Z
LAST-MODIFIED:20200129T020815Z
UID:10000589-1580317200-1580324400@mainewine.com
SUMMARY:Wednesday Pairings with Caroline featuring Fiore Olive Oils
DESCRIPTION:On Wednesday\, January 29\, we’re hosting this event with our very own Caroline\, who will be preparing three nibbles featuring Fiore Olive Oils and Vinegars. Join us as we explore how food and wine are elevated to new heights when paired together. Three bites\, three wines\, only $10! \nMenu\n– Carrots\, arugula\, feta and FIORE cranberry pear white balsamic and FIORE Organic Tonda Iblea\n– FIORE Balsamic braised short ribs and Farro\n– Panna Cotta roasted grapes and FIORE Maine blueberry balsamic. \nSeatings for pairings are first come\, first served and last approximately 20 minutes.
URL:https://mainewine.com/event/wednesday-pairings-with-caroline-featuring-fiore-olive-oils/
LOCATION:ME
CATEGORIES:Portland,Wine Pairings
ATTACH;FMTTYPE=image/jpeg:https://mainewine.com/wp-content/uploads/caroline2.jpg
END:VEVENT
BEGIN:VEVENT
DTSTART;TZID=America/New_York:20200205T170000
DTEND;TZID=America/New_York:20200205T190000
DTSTAMP:20260419T102021
CREATED:20200105T191738Z
LAST-MODIFIED:20200105T191738Z
UID:10000590-1580922000-1580929200@mainewine.com
SUMMARY:Wednesday Pairings featuring Maine-ly Meatballs
DESCRIPTION:On Wednesday\, February 5\, we’re welcoming Maine-ly Meatballs back to the Cellardoor dining room. Join us as we explore how meatballs and wine are elevated to new heights when paired together. Three bites\, three wines\, only $10! \nSeatings for pairings are first come\, first served and last approximately 20 minutes.
URL:https://mainewine.com/event/wednesday-pairings-featuring-maine-ly-meatballs-2/
LOCATION:ME
CATEGORIES:Portland,Wine Pairings
ATTACH;FMTTYPE=image/jpeg:https://mainewine.com/wp-content/uploads/meatballs.jpg
END:VEVENT
BEGIN:VEVENT
DTSTART;TZID=America/New_York:20200208T120000
DTEND;TZID=America/New_York:20200208T160000
DTSTAMP:20260419T102021
CREATED:20200105T170111Z
LAST-MODIFIED:20200201T170559Z
UID:10000583-1581163200-1581177600@mainewine.com
SUMMARY:Warm Up and Wine Down: Spatzele
DESCRIPTION:Warm up and wine down with a series of farmhouse pop-ups with Cafe Miranda at Cellardoor on select Saturdays this winter. Cellardoor will be open for tastings\, glasses of wine\, and food from Cafe Miranda will be available for purchase. \nMenu\n– Meatballs with kraut\, brown sauce & beet relish ($11)\n– Kartoffelpuffer: Potato cakes & apple sauce ($6)\n– Ratsherrenpfanne: German vegetable and mushroom stew ($8)\n– Spaetzle with Braised Red Cabbage and Pork Tenderloin ($13) \nUpcoming\nFEB 15 – SWEET & SAVORY\nFEB 29 – SICILY\nMAR 14 – SKEWER\nMAR 28 – STREETFOOD
URL:https://mainewine.com/event/warm-up-and-wine-down-spatzele/
LOCATION:CELLARDOOR WINERY\, 367 YOUNGTOWN RD\, LINCOLNVILLE\, ME\, 04849-5427\, United States
CATEGORIES:Lincolnville
ATTACH;FMTTYPE=image/jpeg:https://mainewine.com/wp-content/uploads/cafemirandapopup.jpg
END:VEVENT
BEGIN:VEVENT
DTSTART;TZID=America/New_York:20200212T170000
DTEND;TZID=America/New_York:20200212T190000
DTSTAMP:20260419T102021
CREATED:20200105T192016Z
LAST-MODIFIED:20200105T192016Z
UID:10000591-1581526800-1581534000@mainewine.com
SUMMARY:Wednesday Pairings featuring Crepe Elizabeth
DESCRIPTION:On Wednesday\, February 12\, enjoy three nibbles created by Crepe Elizabeth paired with Cellardoor wine. Join us as we explore how food and wine are elevated to new heights when paired together. Three bites\, three wines\, only $10! \nSeatings for pairings are first come\, first served and last approximately 20 minutes.
URL:https://mainewine.com/event/wednesday-pairings-featuring-crepe-elizabeth-2/
LOCATION:ME
CATEGORIES:Portland,Wine Pairings
ATTACH;FMTTYPE=image/jpeg:https://mainewine.com/wp-content/uploads/crepeelizabeth.jpg
END:VEVENT
BEGIN:VEVENT
DTSTART;TZID=America/New_York:20200214T060000
DTEND;TZID=America/New_York:20200214T200000
DTSTAMP:20260419T102021
CREATED:20200113T214530Z
LAST-MODIFIED:20200117T201425Z
UID:10000592-1581660000-1581710400@mainewine.com
SUMMARY:Valentine's Dinner
DESCRIPTION:Let us wine you and dine you this Valentine’s Day\, with a four course wine dinner prepared by Natalia Dyer of Sampa Kitchen (formally Grillin Brazilian) paired with Cellardoor wines. \nSeats for this pairing are limited\, so early reservations are recommended. Tickets must be purchased in advance. \nMENU\nFirst\nHot honey and brie pastry bites \nSecond\nShrimp Bobo with coconut cream\, yuka\, tomatoes\, bell pepper\, onion\, cilantro\, and rice \nThird\nPicanha steak with chimichurri sauce\, smashed potatoes\, and lil green salad \nFourth\nChocolate cherry mousse
URL:https://mainewine.com/event/valentines-dinner/
LOCATION:ME
CATEGORIES:Portland,Wine Pairings
ATTACH;FMTTYPE=image/jpeg:https://mainewine.com/wp-content/uploads/valentinesdaydinner.jpg
END:VEVENT
BEGIN:VEVENT
DTSTART;TZID=America/New_York:20200215T120000
DTEND;TZID=America/New_York:20200215T160000
DTSTAMP:20260419T102021
CREATED:20200105T170158Z
LAST-MODIFIED:20200212T202623Z
UID:10000584-1581768000-1581782400@mainewine.com
SUMMARY:Warm Up and Wine Down: Sweet and Savory
DESCRIPTION:Warm up and wine down with a series of farmhouse pop-ups with Cafe Miranda at Cellardoor on select Saturdays this winter. Cellardoor will be open for tastings\, glasses of wine\, and food from Cafe Miranda will be available for purchase. \nMENU\nSAVORY\nPineapple Express – Glazed Crispy Tofu\, Pineapple\, and Jalapeño over rice ($11)\nWet Wellie – Beef and Mushrooms on Puff Pastry with Smoked Tomato Compote and Truffle Oil ($14)\nPico Chic – Mexican Spiced Braised Chicken Thighs with Banana Pepper Pico de Gallo and Avocado Crema ($6) \nSWEET\nHouse Popped Kettle Corn ($3)\nWhipped Lemon Curd with Strawberries ($5)\nHomemade Fudge Rounds ($3) \n  \nUpcoming \nFEB 29 – SICILY\nMAR 14 – SKEWER\nMAR 28 – STREETFOOD
URL:https://mainewine.com/event/warm-up-and-wine-down-sweet-and-savory/
LOCATION:CELLARDOOR WINERY\, 367 YOUNGTOWN RD\, LINCOLNVILLE\, ME\, 04849-5427\, United States
CATEGORIES:Lincolnville
ATTACH;FMTTYPE=image/jpeg:https://mainewine.com/wp-content/uploads/cafemirandapopup.jpg
END:VEVENT
BEGIN:VEVENT
DTSTART;TZID=America/New_York:20200219T170000
DTEND;TZID=America/New_York:20200219T190000
DTSTAMP:20260419T102021
CREATED:20200201T162302Z
LAST-MODIFIED:20200201T162302Z
UID:10000458-1582131600-1582138800@mainewine.com
SUMMARY:Wednesday Pairings featuring Yardie Ting
DESCRIPTION:On Wednesday\, February 19\, we’re bringing a taste of Jamaica to Cellardoor with Yardie Ting LLC! Join us as we explore how food and wine is elevated to new heights when paired together. Three bites\, three wines\, only $10!\n\n\nMenu (pairings TBD):\n\n\n \n\n\n– Jerk chicken meat balls\n\n\n– Callaloo floats \n\n\n– Coconut fried tofu \n\n\n \n\n\nFirst come\, first serve. Pairings occur in seatings of up to 20 people and last approximately 20 minutes.
URL:https://mainewine.com/event/wednesday-pairings-featuring-yardie-ting-2/
LOCATION:ME
CATEGORIES:Portland,Wine Pairings
ATTACH;FMTTYPE=image/jpeg:https://mainewine.com/wp-content/uploads/YardieTingBackground.jpg
END:VEVENT
BEGIN:VEVENT
DTSTART;TZID=America/New_York:20200226T170000
DTEND;TZID=America/New_York:20200226T190000
DTSTAMP:20260419T102021
CREATED:20200201T163617Z
LAST-MODIFIED:20200201T163617Z
UID:10000460-1582736400-1582743600@mainewine.com
SUMMARY:Wednesday Pairings featuring Sampa Kitchen
DESCRIPTION:On Wednesday\, February 26\, Sampa Kitchen (formally Grillin’ Brazilian) will bring Brazilian heat to the Cellardoor dining room. Join us as we explore how authentic Brazilian street food and wine are elevated to new heights when paired together. Three bites\, three wines\, only $10!\n\n\n \n\n\nSeatings for pairings are first come\, first served and last approximately 20 minutes.
URL:https://mainewine.com/event/wednesday-pairings-featuring-sampa-kitchen-2/
LOCATION:ME
CATEGORIES:Portland,Wine Pairings
ATTACH;FMTTYPE=image/jpeg:https://mainewine.com/wp-content/uploads/brillbrazil-23.jpg
END:VEVENT
BEGIN:VEVENT
DTSTART;TZID=America/New_York:20200229T120000
DTEND;TZID=America/New_York:20200229T160000
DTSTAMP:20260419T102021
CREATED:20200105T170250Z
LAST-MODIFIED:20200227T222901Z
UID:10000585-1582977600-1582992000@mainewine.com
SUMMARY:Warm Up and Wine Down: Sicily
DESCRIPTION:Warm up and wine down with a series of farmhouse pop-ups with Cafe Miranda at Cellardoor on select Saturdays this winter. Cellardoor will be open for tastings\, glasses of wine\, and food from Cafe Miranda will be available for purchase. \nMenu\nArancini with Pomodoro ($9)\nShrimp Arrabbiata with Scallion and Focaccia ($13)\nEggplant Caponata over Soft Polenta ($11)\nPork Milanese ($14)\nHouse made Fresh Mozzarella Fried with Basil Pesto ($7)\nA pair of Chocolate Cannoli ($5) \n  \nFEB 29 – SICILY\nMAR 14 – SKEWER\nMAR 28 – STREETFOOD
URL:https://mainewine.com/event/warm-up-and-wine-down-sicily/
LOCATION:CELLARDOOR WINERY\, 367 YOUNGTOWN RD\, LINCOLNVILLE\, ME\, 04849-5427\, United States
CATEGORIES:Lincolnville
ATTACH;FMTTYPE=image/jpeg:https://mainewine.com/wp-content/uploads/cafemirandapopup.jpg
END:VEVENT
BEGIN:VEVENT
DTSTART;TZID=America/New_York:20200304T170000
DTEND;TZID=America/New_York:20200304T190000
DTSTAMP:20260419T102021
CREATED:20200302T145113Z
LAST-MODIFIED:20200302T150950Z
UID:10000464-1583341200-1583348400@mainewine.com
SUMMARY:Wednesday Pairings featuring Classic Pairings with Caroline
DESCRIPTION:On Wednesday\, March 4\, we are welcoming our very own Caroline\, who will be preparing a spread of classic food and wine pairings. Join us as we explore how food and wine are elevated to new heights when paired together. Three bites\, three wines\, only $10! \nMenu\nChèvre and crostini\nRoasted tri-tip and jammy tomato\nChocolate covered strawberries
URL:https://mainewine.com/event/wednesday-pairings-classic-pairings-with-caroline/
LOCATION:ME
CATEGORIES:Portland,Wine Pairings
ATTACH;FMTTYPE=image/jpeg:https://mainewine.com/wp-content/uploads/june2019-68.jpg
END:VEVENT
BEGIN:VEVENT
DTSTART;VALUE=DATE:20200311
DTEND;VALUE=DATE:20200325
DTSTAMP:20260419T102021
CREATED:20200302T155342Z
LAST-MODIFIED:20200320T163101Z
UID:10000466-1583884800-1585094399@mainewine.com
SUMMARY:Closed for a Winter Break
DESCRIPTION:Reopening when it is safe and responsible to do so.
URL:https://mainewine.com/event/closed-for-a-winter-break/
LOCATION:ME
CATEGORIES:Portland
ATTACH;FMTTYPE=image/jpeg:https://mainewine.com/wp-content/uploads/Wednesday-Pairings.jpg
END:VEVENT
BEGIN:VEVENT
DTSTART;TZID=America/New_York:20201218T190000
DTEND;TZID=America/New_York:20201218T203000
DTSTAMP:20260419T102021
CREATED:20201208T210237Z
LAST-MODIFIED:20201208T215545Z
UID:10000467-1608318000-1608323400@mainewine.com
SUMMARY:Virtual Holiday Show with Landau Eugene Murphy Jr.
DESCRIPTION:As a thank you for your patronage this holiday season\, we’re offering complimentary tickets to Landau Eugene Murphy Jr.’s Virtual Home For The Holidays concert on December 18\, with any purchase in person or online during December. \nThis will be the 10th annual Christmas tour presented by Landau Eugene Murphy Jr.\, the Sinatra-and-Soul singing season six winner of NBC TV’s “America’s Got Talent.” This year the tour comes directly to the comfort of your own home. The online concert experience will be live\, interactive\, and spontaneous. Landau will take requests and chat with attendees during this special Cellardoor performance. \nWe look forward to opening a bottle of wine and sharing this evening with you! If you haven’t received an invite\, email us at info@mainewine.com.
URL:https://mainewine.com/event/virtual-holiday-show-2020/
LOCATION:ME
CATEGORIES:Sounds of Summer
ATTACH;FMTTYPE=image/jpeg:https://mainewine.com/wp-content/uploads/Landau.jpg
END:VEVENT
BEGIN:VEVENT
DTSTART;TZID=America/New_York:20230804T123000
DTEND;TZID=America/New_York:20230804T140000
DTSTAMP:20260419T102021
CREATED:20230802T182822Z
LAST-MODIFIED:20240621T200210Z
UID:10000593-1691152200-1691157600@mainewine.com
SUMMARY:Food & Wine Pairings
DESCRIPTION:Join us for a hosted food and wine pairing at our beautiful kitchen bar with Chef Fernando Ferreira. His exquisite menus challenge and highlight our Cellardoor wines; this pairing experience will delight your palate. These experiences require a reservation. $40 per person
URL:https://mainewine.com/event/food-wine-pairings/
LOCATION:CELLARDOOR WINERY\, 367 YOUNGTOWN RD\, LINCOLNVILLE\, ME\, 04849-5427\, United States
CATEGORIES:Lincolnville,Portland,Wine Pairings
ATTACH;FMTTYPE=image/jpeg:https://mainewine.com/wp-content/uploads/Untitled-design.jpg
ORGANIZER;CN="Cellardoor":MAILTO:info@mainewine.com
END:VEVENT
BEGIN:VEVENT
DTSTART;TZID=America/New_York:20240526T123000
DTEND;TZID=America/New_York:20240526T140000
DTSTAMP:20260419T102021
CREATED:20240520T154723Z
LAST-MODIFIED:20240621T200209Z
UID:10000594-1716726600-1716732000@mainewine.com
SUMMARY:Food and Wine Pairing with Chef Lexi
DESCRIPTION:Join Chef Lexi for a multi-course food and wine pairing at our Farmhouse Bar. Enjoy four unique dishes paired with four different Cellardoor wines.
URL:https://mainewine.com/event/food-and-wine-pairing_5_26/
LOCATION:CELLARDOOR WINERY\, 367 YOUNGTOWN RD\, LINCOLNVILLE\, ME\, 04849-5427\, United States
CATEGORIES:Lincolnville,Wine Pairings
ATTACH;FMTTYPE=image/jpeg:https://mainewine.com/wp-content/uploads/foodandwine_website.jpg
END:VEVENT
BEGIN:VEVENT
DTSTART;TZID=America/New_York:20240601T113000
DTEND;TZID=America/New_York:20240601T120000
DTSTAMP:20260419T102021
CREATED:20240531T212346Z
LAST-MODIFIED:20240602T173311Z
UID:10000637-1717241400-1717243200@mainewine.com
SUMMARY:Complimentary Tour
DESCRIPTION:Join us in the Farmhouse at 11:30 AM for a complimentary winery tour. Learn about the history of our Farmhouse and the art and science behind creating our award-winning wines.
URL:https://mainewine.com/event/complimentary-tour/
LOCATION:ME
CATEGORIES:Lincolnville
ATTACH;FMTTYPE=image/jpeg:https://mainewine.com/wp-content/uploads/foodandwine-2.jpg
END:VEVENT
BEGIN:VEVENT
DTSTART;TZID=America/New_York:20240602T113000
DTEND;TZID=America/New_York:20240602T120000
DTSTAMP:20260419T102021
CREATED:20240531T212443Z
LAST-MODIFIED:20240602T173311Z
UID:10000638-1717327800-1717329600@mainewine.com
SUMMARY:Complimentary Tour
DESCRIPTION:Join us in the Farmhouse at 11:30 AM for a complimentary winery tour. Learn about the history of our Farmhouse and the art and science behind creating our award-winning wines.
URL:https://mainewine.com/event/complimentary-tour-2/
LOCATION:CELLARDOOR WINERY\, 367 YOUNGTOWN RD\, LINCOLNVILLE\, ME\, 04849-5427\, United States
CATEGORIES:Lincolnville
ATTACH;FMTTYPE=image/jpeg:https://mainewine.com/wp-content/uploads/foodandwine-3.jpg
END:VEVENT
BEGIN:VEVENT
DTSTART;VALUE=DATE:20240607
DTEND;VALUE=DATE:20240610
DTSTAMP:20260419T102021
CREATED:20240531T193443Z
LAST-MODIFIED:20240606T160353Z
UID:10000633-1717718400-1717977599@mainewine.com
SUMMARY:Open 12-5
DESCRIPTION:Join us for preset flights and glasses of wine or peruse our bottle and gift shop.
URL:https://mainewine.com/event/open-12-5/
LOCATION:CELLARDOOR WINERY\, 367 YOUNGTOWN RD\, LINCOLNVILLE\, ME\, 04849-5427\, United States
CATEGORIES:Lincolnville
END:VEVENT
BEGIN:VEVENT
DTSTART;TZID=America/New_York:20240607T123000
DTEND;TZID=America/New_York:20240607T140000
DTSTAMP:20260419T102021
CREATED:20240529T220140Z
LAST-MODIFIED:20240621T200207Z
UID:10000597-1717763400-1717768800@mainewine.com
SUMMARY:Food and Wine Pairing with Black Goat Supper Club
DESCRIPTION:Discover the art and science of food and wine pairing with the Black Goat Supper Club at our Farmhouse Bar and open kitchen. Savor four unique dishes\, each perfectly paired with a Cellardoor wine\, and explore how the right wine can enhance the flavors of your meal. \nMenu\n\nWild Fruitings Mushroom Arancini with truffle aioli\, basily bagna cauda\, and parmesan\nZa’atar Marinated Shrimp with chickpea falafel\, english pea puree\, and lemon olive tapenade\nCumin Seed Honey Glazed Pork Belly with white bean puree\, cilantro yogurt\, and peanut vinaigrette\nEspresso Almond Shortbread Brownie with orange caramel and Earl Grey whippy 
URL:https://mainewine.com/event/food-and-wine-pairing-with-black-goat-supper-club-7/
LOCATION:CELLARDOOR WINERY\, 367 YOUNGTOWN RD\, LINCOLNVILLE\, ME\, 04849-5427\, United States
CATEGORIES:Lincolnville,Wine Pairings
ATTACH;FMTTYPE=image/jpeg:https://mainewine.com/wp-content/uploads/fw_blackgoat-1.jpg
END:VEVENT
BEGIN:VEVENT
DTSTART;TZID=America/New_York:20240608T113000
DTEND;TZID=America/New_York:20240608T120000
DTSTAMP:20260419T102021
CREATED:20240531T212609Z
LAST-MODIFIED:20240602T173310Z
UID:10000639-1717846200-1717848000@mainewine.com
SUMMARY:Complimentary Tour
DESCRIPTION:Join us in the Farmhouse at 11:30 AM for a complimentary winery tour. Learn about the history of our Farmhouse and the art and science behind creating our award-winning wines.
URL:https://mainewine.com/event/complimentary-tour-3/
LOCATION:CELLARDOOR WINERY\, 367 YOUNGTOWN RD\, LINCOLNVILLE\, ME\, 04849-5427\, United States
CATEGORIES:Lincolnville
ATTACH;FMTTYPE=image/jpeg:https://mainewine.com/wp-content/uploads/foodandwine-3.jpg
END:VEVENT
BEGIN:VEVENT
DTSTART;TZID=America/New_York:20240608T123000
DTEND;TZID=America/New_York:20240608T140000
DTSTAMP:20260419T102021
CREATED:20240529T220140Z
LAST-MODIFIED:20240621T195928Z
UID:10000599-1717849800-1717855200@mainewine.com
SUMMARY:Food and Wine Pairing with Black Goat Supper Club
DESCRIPTION:Discover the art and science of food and wine pairing with the Black Goat Supper Club at our Farmhouse Bar and open kitchen. Savor four unique dishes\, each perfectly paired with a Cellardoor wine\, and explore how the right wine can enhance the flavors of your meal. \nMenu\n\nWild Fruitings Mushroom Arancini with truffle aioli\, basily bagna cauda\, and parmesan\nZa’atar Marinated Shrimp with chickpea falafel\, english pea puree\, and lemon olive tapenade\nCumin Seed Honey Glazed Pork Belly with white bean puree\, cilantro yogurt\, and peanut vinaigrette\nEspresso Almond Shortbread Brownie with orange caramel and Earl Grey whippy 
URL:https://mainewine.com/event/food-and-wine-pairing-with-black-goat-supper-club-6/
LOCATION:CELLARDOOR WINERY\, 367 YOUNGTOWN RD\, LINCOLNVILLE\, ME\, 04849-5427\, United States
CATEGORIES:Lincolnville,Wine Pairings
ATTACH;FMTTYPE=image/jpeg:https://mainewine.com/wp-content/uploads/fw_blackgoat-1.jpg
END:VEVENT
BEGIN:VEVENT
DTSTART;TZID=America/New_York:20240609T113000
DTEND;TZID=America/New_York:20240609T120000
DTSTAMP:20260419T102021
CREATED:20240531T212636Z
LAST-MODIFIED:20240602T173310Z
UID:10000640-1717932600-1717934400@mainewine.com
SUMMARY:Complimentary Tour
DESCRIPTION:Join us in the Farmhouse at 11:30 AM for a complimentary winery tour. Learn about the history of our Farmhouse and the art and science behind creating our award-winning wines.
URL:https://mainewine.com/event/complimentary-tour-4/
LOCATION:CELLARDOOR WINERY\, 367 YOUNGTOWN RD\, LINCOLNVILLE\, ME\, 04849-5427\, United States
CATEGORIES:Lincolnville
ATTACH;FMTTYPE=image/jpeg:https://mainewine.com/wp-content/uploads/foodandwine-3.jpg
END:VEVENT
BEGIN:VEVENT
DTSTART;TZID=America/New_York:20240609T123000
DTEND;TZID=America/New_York:20240609T140000
DTSTAMP:20260419T102021
CREATED:20240529T215359Z
LAST-MODIFIED:20240621T200208Z
UID:10000601-1717936200-1717941600@mainewine.com
SUMMARY:Food and Wine Pairing with Lexy Ellis
DESCRIPTION:Discover the art and science of food and wine pairing with Lexi Ellis at our Farmhouse Bar and open kitchen. Savor four unique dishes\, each perfectly paired with a Cellardoor wine\, and explore how the right wine can enhance the flavors of your meal.
URL:https://mainewine.com/event/food-and-wine-pairing-with-lexy-ellis-2/
LOCATION:CELLARDOOR WINERY\, 367 YOUNGTOWN RD\, LINCOLNVILLE\, ME\, 04849-5427\, United States
CATEGORIES:Lincolnville,Wine Pairings
ATTACH;FMTTYPE=image/jpeg:https://mainewine.com/wp-content/uploads/fw_lexy.jpg
END:VEVENT
BEGIN:VEVENT
DTSTART;VALUE=DATE:20240614
DTEND;VALUE=DATE:20240617
DTSTAMP:20260419T102021
CREATED:20240531T211348Z
LAST-MODIFIED:20240606T160348Z
UID:10000635-1718323200-1718582399@mainewine.com
SUMMARY:Open 12-5
DESCRIPTION:Join us for preset flights and glasses of wine or peruse our bottle and gift shop.
URL:https://mainewine.com/event/open-12-5-2/
LOCATION:CELLARDOOR WINERY\, 367 YOUNGTOWN RD\, LINCOLNVILLE\, ME\, 04849-5427\, United States
CATEGORIES:Lincolnville
END:VEVENT
BEGIN:VEVENT
DTSTART;TZID=America/New_York:20240614T170000
DTEND;TZID=America/New_York:20240614T190000
DTSTAMP:20260419T102021
CREATED:20240606T154124Z
LAST-MODIFIED:20240613T132309Z
UID:10000680-1718384400-1718391600@mainewine.com
SUMMARY:Brut Nature Release Party
DESCRIPTION:Join us in Portland to celebrate the release of Cellardoor Winery’s Brut Nature!
URL:https://mainewine.com/event/brut-nature-release-party/
LOCATION:CELLARDOOR PORTLAND\, 127 Middle Street\, Portland\, ME\, 04101\, United States
CATEGORIES:Portland
ATTACH;FMTTYPE=image/jpeg:https://mainewine.com/wp-content/uploads/brutnaurerelease.jpg
END:VEVENT
BEGIN:VEVENT
DTSTART;TZID=America/New_York:20240615T113000
DTEND;TZID=America/New_York:20240615T120000
DTSTAMP:20260419T102021
CREATED:20240531T212759Z
LAST-MODIFIED:20240602T173209Z
UID:10000641-1718451000-1718452800@mainewine.com
SUMMARY:Complimentary Tour
DESCRIPTION:Join us in the Farmhouse at 11:30 AM for a complimentary winery tour. Learn about the history of our Farmhouse and the art and science behind creating our award-winning wines.
URL:https://mainewine.com/event/complimentary-tour-5/
LOCATION:CELLARDOOR WINERY\, 367 YOUNGTOWN RD\, LINCOLNVILLE\, ME\, 04849-5427\, United States
CATEGORIES:Lincolnville
ATTACH;FMTTYPE=image/jpeg:https://mainewine.com/wp-content/uploads/foodandwine-3.jpg
END:VEVENT
BEGIN:VEVENT
DTSTART;TZID=America/New_York:20240615T123000
DTEND;TZID=America/New_York:20240615T140000
DTSTAMP:20260419T102021
CREATED:20240529T215359Z
LAST-MODIFIED:20240621T200208Z
UID:10000603-1718454600-1718460000@mainewine.com
SUMMARY:Food and Wine Pairing with Black Goat Supper Club
DESCRIPTION:Discover the art and science of food and wine pairing with the Black Goat Supper Club at our Farmhouse Bar and open kitchen. Savor four unique dishes\, each perfectly paired with a Cellardoor wine\, and explore how the right wine can enhance the flavors of your meal. \nMenu\n\nWild Fruitings Mushroom Arancini with truffle aioli\, basily bagna cauda\, and parmesan\nZa’atar Marinated Shrimp with chickpea falafel\, english pea puree\, and lemon olive tapenade\nCumin Seed Honey Glazed Pork Belly with white bean puree\, cilantro yogurt\, and peanut vinaigrette\nEspresso Almond Shortbread Brownie with orange caramel and Earl Grey whippy 
URL:https://mainewine.com/event/food-and-wine-pairing-with-black-goat-supper-club-5/
LOCATION:CELLARDOOR WINERY\, 367 YOUNGTOWN RD\, LINCOLNVILLE\, ME\, 04849-5427\, United States
CATEGORIES:Lincolnville,Wine Pairings
ATTACH;FMTTYPE=image/jpeg:https://mainewine.com/wp-content/uploads/fw_blackgoat-1.jpg
END:VEVENT
BEGIN:VEVENT
DTSTART;TZID=America/New_York:20240616T113000
DTEND;TZID=America/New_York:20240616T120000
DTSTAMP:20260419T102021
CREATED:20240531T212836Z
LAST-MODIFIED:20240602T173209Z
UID:10000642-1718537400-1718539200@mainewine.com
SUMMARY:Complimentary Tour
DESCRIPTION:Join us in the Farmhouse at 11:30 AM for a complimentary winery tour. Learn about the history of our Farmhouse and the art and science behind creating our award-winning wines.
URL:https://mainewine.com/event/complimentary-tour-6/
LOCATION:CELLARDOOR WINERY\, 367 YOUNGTOWN RD\, LINCOLNVILLE\, ME\, 04849-5427\, United States
CATEGORIES:Lincolnville
ATTACH;FMTTYPE=image/jpeg:https://mainewine.com/wp-content/uploads/foodandwine-3.jpg
END:VEVENT
BEGIN:VEVENT
DTSTART;VALUE=DATE:20240620
DTEND;VALUE=DATE:20240625
DTSTAMP:20260419T102021
CREATED:20240531T211448Z
LAST-MODIFIED:20240618T200458Z
UID:10000636-1718841600-1719273599@mainewine.com
SUMMARY:Open 12-5
DESCRIPTION:Join us for preset flights and glasses of wine or peruse our bottle and gift shop.
URL:https://mainewine.com/event/open-12-5-3/
LOCATION:CELLARDOOR WINERY\, 367 YOUNGTOWN RD\, LINCOLNVILLE\, ME\, 04849-5427\, United States
CATEGORIES:Lincolnville
END:VEVENT
BEGIN:VEVENT
DTSTART;TZID=America/New_York:20240621T120000
DTEND;TZID=America/New_York:20240621T163000
DTSTAMP:20260419T102021
CREATED:20240621T212035Z
LAST-MODIFIED:20240621T212035Z
UID:10000754-1718971200-1718987400@mainewine.com
SUMMARY:Fox in the Vines
DESCRIPTION:Made to order\, Fox in the Vines’ delicious wood-fired pizza is available to enjoy with your favorite wine.
URL:https://mainewine.com/event/fox-in-the-vines-22/
LOCATION:CELLARDOOR WINERY\, 367 YOUNGTOWN RD\, LINCOLNVILLE\, ME\, 04849-5427\, United States
CATEGORIES:Lincolnville
ATTACH;FMTTYPE=image/jpeg:https://mainewine.com/wp-content/uploads/vines_fox.jpg
END:VEVENT
BEGIN:VEVENT
DTSTART;TZID=America/New_York:20240621T123000
DTEND;TZID=America/New_York:20240621T140000
DTSTAMP:20260419T102021
CREATED:20240529T215359Z
LAST-MODIFIED:20240621T200208Z
UID:10000606-1718973000-1718978400@mainewine.com
SUMMARY:Food and Wine Pairing with Black Goat Supper Club
DESCRIPTION:Discover the art and science of food and wine pairing with the Black Goat Supper Club at our Farmhouse Bar and open kitchen. Savor four unique dishes\, each perfectly paired with a Cellardoor wine\, and explore how the right wine can enhance the flavors of your meal. \nMenu\n\nKorean Deviled Egg with kimchi\, buttermilk ranch\, and crispy wonton \nChili Marinated Shrimp with pimpin’ grits\, punjabi slaw\, curry butter\, cashew crumble \nTare Brisket with truffle aioli\, pickled blueberry salad\, and sweet potato puree \nVanilla Anise Panna Cotta with lemon curd\, candied orange\, black pepper whippy\, graham cracker crumble
URL:https://mainewine.com/event/food-and-wine-pairing-with-black-goat-supper-club-4/
LOCATION:CELLARDOOR WINERY\, 367 YOUNGTOWN RD\, LINCOLNVILLE\, ME\, 04849-5427\, United States
CATEGORIES:Lincolnville,Wine Pairings
ATTACH;FMTTYPE=image/jpeg:https://mainewine.com/wp-content/uploads/fw_blackgoat-1.jpg
END:VEVENT
END:VCALENDAR