BEGIN:VCALENDAR
VERSION:2.0
PRODID:-//Cellardoor Winery - ECPv6.15.20//NONSGML v1.0//EN
CALSCALE:GREGORIAN
METHOD:PUBLISH
X-ORIGINAL-URL:https://mainewine.com
X-WR-CALDESC:Events for Cellardoor Winery
REFRESH-INTERVAL;VALUE=DURATION:PT1H
X-Robots-Tag:noindex
X-PUBLISHED-TTL:PT1H
BEGIN:VTIMEZONE
TZID:America/New_York
BEGIN:DAYLIGHT
TZOFFSETFROM:-0500
TZOFFSETTO:-0400
TZNAME:EDT
DTSTART:20250309T070000
END:DAYLIGHT
BEGIN:STANDARD
TZOFFSETFROM:-0400
TZOFFSETTO:-0500
TZNAME:EST
DTSTART:20251102T060000
END:STANDARD
BEGIN:DAYLIGHT
TZOFFSETFROM:-0500
TZOFFSETTO:-0400
TZNAME:EDT
DTSTART:20260308T070000
END:DAYLIGHT
BEGIN:STANDARD
TZOFFSETFROM:-0400
TZOFFSETTO:-0500
TZNAME:EST
DTSTART:20261101T060000
END:STANDARD
BEGIN:DAYLIGHT
TZOFFSETFROM:-0500
TZOFFSETTO:-0400
TZNAME:EDT
DTSTART:20270314T070000
END:DAYLIGHT
BEGIN:STANDARD
TZOFFSETFROM:-0400
TZOFFSETTO:-0500
TZNAME:EST
DTSTART:20271107T060000
END:STANDARD
END:VTIMEZONE
BEGIN:VEVENT
DTSTART;TZID=America/New_York:20260516T123000
DTEND;TZID=America/New_York:20260516T134500
DTSTAMP:20260424T083112
CREATED:20260412T233740Z
LAST-MODIFIED:20260413T170256Z
UID:10001052-1778934600-1778939100@mainewine.com
SUMMARY:Chef Counter Lunch
DESCRIPTION:Discover the art and science of food and wine pairing at our Farmhouse Bar and open kitchen with Chef Lauren. Savor four unique dishes — a full meal\, each course paired with a Cellardoor wine — and explore how the right wine can enhance the flavors of every bite. An intimate\, satisfying lunch designed for curious palates. Click here to view menu and secure tickets.
URL:https://mainewine.com/event/chef-counter-lunch-3/
LOCATION:CELLARDOOR WINERY\, 367 YOUNGTOWN RD\, LINCOLNVILLE\, ME\, 04849-5427\, United States
CATEGORIES:Lincolnville
ATTACH;FMTTYPE=image/jpeg:https://mainewine.com/wp-content/uploads/chefcounter.jpg
END:VEVENT
BEGIN:VEVENT
DTSTART;TZID=America/New_York:20260516T143000
DTEND;TZID=America/New_York:20260516T153000
DTSTAMP:20260424T083112
CREATED:20260422T160605Z
LAST-MODIFIED:20260422T160605Z
UID:10001104-1778941800-1778945400@mainewine.com
SUMMARY:Mixology Class with Ryan from 40 Paper
DESCRIPTION:Join us for a warm\, lively afternoon of hands-on mixology designed to spark your creativity and bring people together. Whether you’re just beginning your cocktail journey or love playing bartender at home\, this welcoming experience will guide you through the art and science of crafting beautifully balanced drinks in a relaxed\, friendly setting. \nRyan Howes\, mixologist at 40 Paper of Camden\, will thoughtfully create three unique cocktails to keep you happily sipping throughout the class. Even better\, you’ll leave with recipe cards for every drink you taste\, so you can recreate the experience and share it with friends and family at home.  \nCome ready to learn\, laugh\, and raise a glass together! Click here to secure tickets.
URL:https://mainewine.com/event/mixology-class-with-ryan-from-40-paper/
LOCATION:CELLARDOOR WINERY\, 367 YOUNGTOWN RD\, LINCOLNVILLE\, ME\, 04849-5427\, United States
CATEGORIES:Lincolnville
ATTACH;FMTTYPE=image/jpeg:https://mainewine.com/wp-content/uploads/mixology.jpg
END:VEVENT
BEGIN:VEVENT
DTSTART;TZID=America/New_York:20260516T150000
DTEND;TZID=America/New_York:20260516T160000
DTSTAMP:20260424T083112
CREATED:20260412T235610Z
LAST-MODIFIED:20260413T173140Z
UID:10001073-1778943600-1778947200@mainewine.com
SUMMARY:Four Bite Pairings
DESCRIPTION:Join us at the Farmhouse Bar with Chef Lauren for a lighter exploration of food and wine pairing. Savor four creative small bites\, each thoughtfully paired with a Cellardoor wine\, and discover how the right wine can highlight\, contrast\, and elevate the flavors of each dish. It’s a snack-sized experience with plenty to taste\, sip\, and learn along the way. Click here to view menu and secure tickets.
URL:https://mainewine.com/event/four-bite-pairings-4/
LOCATION:CELLARDOOR WINERY\, 367 YOUNGTOWN RD\, LINCOLNVILLE\, ME\, 04849-5427\, United States
CATEGORIES:Lincolnville
ATTACH;FMTTYPE=image/jpeg:https://mainewine.com/wp-content/uploads/horizontal-event-promos-for-calendar-etc-37.jpg
END:VEVENT
BEGIN:VEVENT
DTSTART;TZID=America/New_York:20260517T123000
DTEND;TZID=America/New_York:20260517T134500
DTSTAMP:20260424T083112
CREATED:20260412T233741Z
LAST-MODIFIED:20260413T170257Z
UID:10001053-1779021000-1779025500@mainewine.com
SUMMARY:Chef Counter Lunch
DESCRIPTION:Discover the art and science of food and wine pairing at our Farmhouse Bar and open kitchen with Chef Lauren. Savor four unique dishes — a full meal\, each course paired with a Cellardoor wine — and explore how the right wine can enhance the flavors of every bite. An intimate\, satisfying lunch designed for curious palates. Click here to view menu and secure tickets.
URL:https://mainewine.com/event/chef-counter-lunch-4/
LOCATION:CELLARDOOR WINERY\, 367 YOUNGTOWN RD\, LINCOLNVILLE\, ME\, 04849-5427\, United States
CATEGORIES:Lincolnville
ATTACH;FMTTYPE=image/jpeg:https://mainewine.com/wp-content/uploads/chefcounter.jpg
END:VEVENT
BEGIN:VEVENT
DTSTART;TZID=America/New_York:20260517T150000
DTEND;TZID=America/New_York:20260517T160000
DTSTAMP:20260424T083112
CREATED:20260412T235611Z
LAST-MODIFIED:20260413T173141Z
UID:10001074-1779030000-1779033600@mainewine.com
SUMMARY:Four Bite Pairings
DESCRIPTION:Join us at the Farmhouse Bar with Chef Lauren for a lighter exploration of food and wine pairing. Savor four creative small bites\, each thoughtfully paired with a Cellardoor wine\, and discover how the right wine can highlight\, contrast\, and elevate the flavors of each dish. It’s a snack-sized experience with plenty to taste\, sip\, and learn along the way. Click here to view menu and secure tickets.
URL:https://mainewine.com/event/four-bite-pairings-5/
LOCATION:CELLARDOOR WINERY\, 367 YOUNGTOWN RD\, LINCOLNVILLE\, ME\, 04849-5427\, United States
CATEGORIES:Lincolnville
ATTACH;FMTTYPE=image/jpeg:https://mainewine.com/wp-content/uploads/horizontal-event-promos-for-calendar-etc-37.jpg
END:VEVENT
BEGIN:VEVENT
DTSTART;VALUE=DATE:20260522
DTEND;VALUE=DATE:20260525
DTSTAMP:20260424T083112
CREATED:20260413T154028Z
LAST-MODIFIED:20260413T154028Z
UID:10001097-1779408000-1779667199@mainewine.com
SUMMARY:Open 12-5
DESCRIPTION:Stop by for preset flights\, glasses of wine\, or a browse through our bottle and gift shop.  \nWalk-ins are always welcome! \nPlanning to visit with a group of 6 or more? Please email info@mainewine.com to reserve a table.
URL:https://mainewine.com/event/open-12-5-41/
LOCATION:CELLARDOOR WINERY\, 367 YOUNGTOWN RD\, LINCOLNVILLE\, ME\, 04849-5427\, United States
CATEGORIES:Lincolnville
ATTACH;FMTTYPE=image/jpeg:https://mainewine.com/wp-content/uploads/openhours3.jpg
END:VEVENT
BEGIN:VEVENT
DTSTART;TZID=America/New_York:20260522T123000
DTEND;TZID=America/New_York:20260522T134500
DTSTAMP:20260424T083112
CREATED:20260412T233741Z
LAST-MODIFIED:20260413T170257Z
UID:10001054-1779453000-1779457500@mainewine.com
SUMMARY:Chef Counter Lunch
DESCRIPTION:Discover the art and science of food and wine pairing at our Farmhouse Bar and open kitchen with Chef Jaci. Savor four unique dishes — a full meal\, each course paired with a Cellardoor wine — and explore how the right wine can enhance the flavors of every bite. An intimate\, satisfying lunch designed for curious palates. Click here to view menu and secure tickets.
URL:https://mainewine.com/event/chef-counter-lunch-5/
LOCATION:CELLARDOOR WINERY\, 367 YOUNGTOWN RD\, LINCOLNVILLE\, ME\, 04849-5427\, United States
CATEGORIES:Lincolnville
ATTACH;FMTTYPE=image/jpeg:https://mainewine.com/wp-content/uploads/chefcounter.jpg
END:VEVENT
BEGIN:VEVENT
DTSTART;TZID=America/New_York:20260522T150000
DTEND;TZID=America/New_York:20260522T160000
DTSTAMP:20260424T083112
CREATED:20260412T235613Z
LAST-MODIFIED:20260413T173142Z
UID:10001075-1779462000-1779465600@mainewine.com
SUMMARY:Four Bite Pairings
DESCRIPTION:Join us at the Farmhouse Bar with Chef Jaci for a lighter exploration of food and wine pairing. Savor four creative small bites\, each thoughtfully paired with a Cellardoor wine\, and discover how the right wine can highlight\, contrast\, and elevate the flavors of each dish. It’s a snack-sized experience with plenty to taste\, sip\, and learn along the way. Click here to view menu and secure tickets.
URL:https://mainewine.com/event/four-bite-pairings-6/
LOCATION:CELLARDOOR WINERY\, 367 YOUNGTOWN RD\, LINCOLNVILLE\, ME\, 04849-5427\, United States
CATEGORIES:Lincolnville
ATTACH;FMTTYPE=image/jpeg:https://mainewine.com/wp-content/uploads/horizontal-event-promos-for-calendar-etc-37.jpg
END:VEVENT
BEGIN:VEVENT
DTSTART;TZID=America/New_York:20260523T123000
DTEND;TZID=America/New_York:20260523T134500
DTSTAMP:20260424T083112
CREATED:20260412T233742Z
LAST-MODIFIED:20260413T170258Z
UID:10001055-1779539400-1779543900@mainewine.com
SUMMARY:Chef Counter Lunch
DESCRIPTION:Discover the art and science of food and wine pairing at our Farmhouse Bar and open kitchen with Chef Jaci. Savor four unique dishes — a full meal\, each course paired with a Cellardoor wine — and explore how the right wine can enhance the flavors of every bite. An intimate\, satisfying lunch designed for curious palates. Click here to view menu and secure tickets.
URL:https://mainewine.com/event/chef-counter-lunch-6/
LOCATION:CELLARDOOR WINERY\, 367 YOUNGTOWN RD\, LINCOLNVILLE\, ME\, 04849-5427\, United States
CATEGORIES:Lincolnville
ATTACH;FMTTYPE=image/jpeg:https://mainewine.com/wp-content/uploads/chefcounter.jpg
END:VEVENT
BEGIN:VEVENT
DTSTART;TZID=America/New_York:20260523T143000
DTEND;TZID=America/New_York:20260523T153000
DTSTAMP:20260424T083112
CREATED:20260422T160605Z
LAST-MODIFIED:20260422T160605Z
UID:10001105-1779546600-1779550200@mainewine.com
SUMMARY:Mixology Class with Andrew from Blue Barren Distillery
DESCRIPTION:Join us for a warm\, lively afternoon of hands-on mixology designed to spark your creativity and bring people together. Whether you’re just beginning your cocktail journey or love playing bartender at home\, this welcoming experience will guide you through the art and science of crafting beautifully balanced drinks in a relaxed\, friendly setting. \nAndrew Stewart\, co-founder Blue Barren Distillery and Restaurant of Camden\, will thoughtfully create three unique cocktails to keep you happily sipping throughout the class. Even better\, you’ll leave with recipe cards for every drink you taste\, so you can recreate the experience and share it with friends and family at home.  \nCome ready to learn\, laugh\, and raise a glass together! Click here to secure tickets.
URL:https://mainewine.com/event/mixology-class-with-andrew-from-blue-barren-distillery/
LOCATION:CELLARDOOR WINERY\, 367 YOUNGTOWN RD\, LINCOLNVILLE\, ME\, 04849-5427\, United States
CATEGORIES:Lincolnville
ATTACH;FMTTYPE=image/jpeg:https://mainewine.com/wp-content/uploads/mixology.jpg
END:VEVENT
BEGIN:VEVENT
DTSTART;TZID=America/New_York:20260523T150000
DTEND;TZID=America/New_York:20260523T160000
DTSTAMP:20260424T083112
CREATED:20260412T235615Z
LAST-MODIFIED:20260413T173143Z
UID:10001076-1779548400-1779552000@mainewine.com
SUMMARY:Four Bite Pairings
DESCRIPTION:Join us at the Farmhouse Bar with Chef Jaci for a lighter exploration of food and wine pairing. Savor four creative small bites\, each thoughtfully paired with a Cellardoor wine\, and discover how the right wine can highlight\, contrast\, and elevate the flavors of each dish. It’s a snack-sized experience with plenty to taste\, sip\, and learn along the way. Click here to view menu and secure tickets.
URL:https://mainewine.com/event/four-bite-pairings-7/
LOCATION:CELLARDOOR WINERY\, 367 YOUNGTOWN RD\, LINCOLNVILLE\, ME\, 04849-5427\, United States
CATEGORIES:Lincolnville
ATTACH;FMTTYPE=image/jpeg:https://mainewine.com/wp-content/uploads/horizontal-event-promos-for-calendar-etc-37.jpg
END:VEVENT
BEGIN:VEVENT
DTSTART;TZID=America/New_York:20260524T123000
DTEND;TZID=America/New_York:20260524T134500
DTSTAMP:20260424T083112
CREATED:20260412T233745Z
LAST-MODIFIED:20260413T170259Z
UID:10001056-1779625800-1779630300@mainewine.com
SUMMARY:Chef Counter Lunch
DESCRIPTION:Discover the art and science of food and wine pairing at our Farmhouse Bar and open kitchen with Chef Jaci. Savor four unique dishes — a full meal\, each course paired with a Cellardoor wine — and explore how the right wine can enhance the flavors of every bite. An intimate\, satisfying lunch designed for curious palates. Click here to view menu and secure tickets.
URL:https://mainewine.com/event/chef-counter-lunch-7/
LOCATION:CELLARDOOR WINERY\, 367 YOUNGTOWN RD\, LINCOLNVILLE\, ME\, 04849-5427\, United States
CATEGORIES:Lincolnville
ATTACH;FMTTYPE=image/jpeg:https://mainewine.com/wp-content/uploads/chefcounter.jpg
END:VEVENT
BEGIN:VEVENT
DTSTART;TZID=America/New_York:20260524T150000
DTEND;TZID=America/New_York:20260524T160000
DTSTAMP:20260424T083112
CREATED:20260412T235616Z
LAST-MODIFIED:20260413T173143Z
UID:10001077-1779634800-1779638400@mainewine.com
SUMMARY:Four Bite Pairings
DESCRIPTION:Join us at the Farmhouse Bar with Chef Jaci for a lighter exploration of food and wine pairing. Savor four creative small bites\, each thoughtfully paired with a Cellardoor wine\, and discover how the right wine can highlight\, contrast\, and elevate the flavors of each dish. It’s a snack-sized experience with plenty to taste\, sip\, and learn along the way. Click here to view menu and secure tickets.
URL:https://mainewine.com/event/four-bite-pairings-8/
LOCATION:CELLARDOOR WINERY\, 367 YOUNGTOWN RD\, LINCOLNVILLE\, ME\, 04849-5427\, United States
CATEGORIES:Lincolnville
ATTACH;FMTTYPE=image/jpeg:https://mainewine.com/wp-content/uploads/horizontal-event-promos-for-calendar-etc-37.jpg
END:VEVENT
BEGIN:VEVENT
DTSTART;VALUE=DATE:20260529
DTEND;VALUE=DATE:20260601
DTSTAMP:20260424T083112
CREATED:20260413T154028Z
LAST-MODIFIED:20260413T154028Z
UID:10001098-1780012800-1780271999@mainewine.com
SUMMARY:Open 12-5
DESCRIPTION:Stop by for preset flights\, glasses of wine\, or a browse through our bottle and gift shop.  \nWalk-ins are always welcome! \nPlanning to visit with a group of 6 or more? Please email info@mainewine.com to reserve a table.
URL:https://mainewine.com/event/open-12-5-42/
LOCATION:CELLARDOOR WINERY\, 367 YOUNGTOWN RD\, LINCOLNVILLE\, ME\, 04849-5427\, United States
CATEGORIES:Lincolnville
ATTACH;FMTTYPE=image/jpeg:https://mainewine.com/wp-content/uploads/openhours3.jpg
END:VEVENT
BEGIN:VEVENT
DTSTART;TZID=America/New_York:20260529T173000
DTEND;TZID=America/New_York:20260529T193000
DTSTAMP:20260424T083112
CREATED:20260413T003001Z
LAST-MODIFIED:20260413T173423Z
UID:10001093-1780075800-1780083000@mainewine.com
SUMMARY:Dueling Chefs Dinner at the Counter
DESCRIPTION:Two chefs. One surprise ingredient list. Zero holding back. Join us at the Farmhouse Bar as Lauren and Jaci face off in a one-night-only culinary showdown\, each dish paired with a Cellardoor wine. Click here to view menu and secure tickets.
URL:https://mainewine.com/event/dueling-chefs-dinner-at-the-counter/
LOCATION:CELLARDOOR WINERY\, 367 YOUNGTOWN RD\, LINCOLNVILLE\, ME\, 04849-5427\, United States
CATEGORIES:Lincolnville
ATTACH;FMTTYPE=image/jpeg:https://mainewine.com/wp-content/uploads/fw_lexy.jpg
END:VEVENT
BEGIN:VEVENT
DTSTART;TZID=America/New_York:20260530T123000
DTEND;TZID=America/New_York:20260530T134500
DTSTAMP:20260424T083112
CREATED:20260412T233747Z
LAST-MODIFIED:20260413T170300Z
UID:10001057-1780144200-1780148700@mainewine.com
SUMMARY:Chef Counter Lunch
DESCRIPTION:Discover the art and science of food and wine pairing at our Farmhouse Bar and open kitchen with Chef Lauren. Savor four unique dishes — a full meal\, each course paired with a Cellardoor wine — and explore how the right wine can enhance the flavors of every bite. An intimate\, satisfying lunch designed for curious palates. Click here to view menu and secure tickets.
URL:https://mainewine.com/event/chef-counter-lunch-8/
LOCATION:CELLARDOOR WINERY\, 367 YOUNGTOWN RD\, LINCOLNVILLE\, ME\, 04849-5427\, United States
CATEGORIES:Lincolnville
ATTACH;FMTTYPE=image/jpeg:https://mainewine.com/wp-content/uploads/chefcounter.jpg
END:VEVENT
BEGIN:VEVENT
DTSTART;TZID=America/New_York:20260530T150000
DTEND;TZID=America/New_York:20260530T160000
DTSTAMP:20260424T083112
CREATED:20260412T235616Z
LAST-MODIFIED:20260413T173144Z
UID:10001078-1780153200-1780156800@mainewine.com
SUMMARY:Four Bite Pairings
DESCRIPTION:Join us at the Farmhouse Bar with Chef Lauren for a lighter exploration of food and wine pairing. Savor four creative small bites\, each thoughtfully paired with a Cellardoor wine\, and discover how the right wine can highlight\, contrast\, and elevate the flavors of each dish. It’s a snack-sized experience with plenty to taste\, sip\, and learn along the way. Click here to view menu and secure tickets.
URL:https://mainewine.com/event/four-bite-pairings-9/
LOCATION:CELLARDOOR WINERY\, 367 YOUNGTOWN RD\, LINCOLNVILLE\, ME\, 04849-5427\, United States
CATEGORIES:Lincolnville
ATTACH;FMTTYPE=image/jpeg:https://mainewine.com/wp-content/uploads/horizontal-event-promos-for-calendar-etc-37.jpg
END:VEVENT
BEGIN:VEVENT
DTSTART;TZID=America/New_York:20260531T123000
DTEND;TZID=America/New_York:20260531T134500
DTSTAMP:20260424T083112
CREATED:20260412T233748Z
LAST-MODIFIED:20260413T170301Z
UID:10001058-1780230600-1780235100@mainewine.com
SUMMARY:Chef Counter Lunch
DESCRIPTION:Discover the art and science of food and wine pairing at our Farmhouse Bar and open kitchen with Chef Lauren. Savor four unique dishes — a full meal\, each course paired with a Cellardoor wine — and explore how the right wine can enhance the flavors of every bite. An intimate\, satisfying lunch designed for curious palates. Click here to view menu and secure tickets.
URL:https://mainewine.com/event/chef-counter-lunch-9/
LOCATION:CELLARDOOR WINERY\, 367 YOUNGTOWN RD\, LINCOLNVILLE\, ME\, 04849-5427\, United States
CATEGORIES:Lincolnville
ATTACH;FMTTYPE=image/jpeg:https://mainewine.com/wp-content/uploads/chefcounter.jpg
END:VEVENT
BEGIN:VEVENT
DTSTART;TZID=America/New_York:20260531T150000
DTEND;TZID=America/New_York:20260531T160000
DTSTAMP:20260424T083112
CREATED:20260412T235617Z
LAST-MODIFIED:20260413T173144Z
UID:10001079-1780239600-1780243200@mainewine.com
SUMMARY:Four Bite Pairings
DESCRIPTION:Join us at the Farmhouse Bar with Chef Lauren for a lighter exploration of food and wine pairing. Savor four creative small bites\, each thoughtfully paired with a Cellardoor wine\, and discover how the right wine can highlight\, contrast\, and elevate the flavors of each dish. It’s a snack-sized experience with plenty to taste\, sip\, and learn along the way. Click here to view menu and secure tickets.
URL:https://mainewine.com/event/four-bite-pairings-10/
LOCATION:CELLARDOOR WINERY\, 367 YOUNGTOWN RD\, LINCOLNVILLE\, ME\, 04849-5427\, United States
CATEGORIES:Lincolnville
ATTACH;FMTTYPE=image/jpeg:https://mainewine.com/wp-content/uploads/horizontal-event-promos-for-calendar-etc-37.jpg
END:VEVENT
BEGIN:VEVENT
DTSTART;VALUE=DATE:20260605
DTEND;VALUE=DATE:20260608
DTSTAMP:20260424T083112
CREATED:20260413T154029Z
LAST-MODIFIED:20260413T154029Z
UID:10001099-1780617600-1780876799@mainewine.com
SUMMARY:Open 12-5
DESCRIPTION:Stop by for preset flights\, glasses of wine\, or a browse through our bottle and gift shop.  \nWalk-ins are always welcome! \nPlanning to visit with a group of 6 or more? Please email info@mainewine.com to reserve a table.
URL:https://mainewine.com/event/open-12-5-43/
LOCATION:CELLARDOOR WINERY\, 367 YOUNGTOWN RD\, LINCOLNVILLE\, ME\, 04849-5427\, United States
CATEGORIES:Lincolnville
ATTACH;FMTTYPE=image/jpeg:https://mainewine.com/wp-content/uploads/openhours3.jpg
END:VEVENT
BEGIN:VEVENT
DTSTART;TZID=America/New_York:20260605T123000
DTEND;TZID=America/New_York:20260605T134500
DTSTAMP:20260424T083112
CREATED:20260412T233749Z
LAST-MODIFIED:20260422T160459Z
UID:10001059-1780662600-1780667100@mainewine.com
SUMMARY:Chef Counter Lunch
DESCRIPTION:Discover the art and science of food and wine pairing at our Farmhouse Bar and open kitchen with Chef Lauren. Savor four unique dishes — a full meal\, each course paired with a Cellardoor wine — and explore how the right wine can enhance the flavors of every bite. An intimate\, satisfying lunch designed for curious palates. Click here to view menu and secure tickets.
URL:https://mainewine.com/event/chef-counter-lunch-10/
LOCATION:CELLARDOOR WINERY\, 367 YOUNGTOWN RD\, LINCOLNVILLE\, ME\, 04849-5427\, United States
CATEGORIES:Lincolnville
ATTACH;FMTTYPE=image/jpeg:https://mainewine.com/wp-content/uploads/chefcounter.jpg
END:VEVENT
BEGIN:VEVENT
DTSTART;TZID=America/New_York:20260605T150000
DTEND;TZID=America/New_York:20260605T160000
DTSTAMP:20260424T083112
CREATED:20260412T235715Z
LAST-MODIFIED:20260422T160500Z
UID:10001080-1780671600-1780675200@mainewine.com
SUMMARY:Four Bite Pairings
DESCRIPTION:Join us at the Farmhouse Bar with Chef Lauren for a lighter exploration of food and wine pairing. Savor four creative small bites\, each thoughtfully paired with a Cellardoor wine\, and discover how the right wine can highlight\, contrast\, and elevate the flavors of each dish. It’s a snack-sized experience with plenty to taste\, sip\, and learn along the way. Click here to view menu and secure tickets.
URL:https://mainewine.com/event/four-bite-pairings-11/
LOCATION:CELLARDOOR WINERY\, 367 YOUNGTOWN RD\, LINCOLNVILLE\, ME\, 04849-5427\, United States
CATEGORIES:Lincolnville
ATTACH;FMTTYPE=image/jpeg:https://mainewine.com/wp-content/uploads/horizontal-event-promos-for-calendar-etc-37.jpg
END:VEVENT
BEGIN:VEVENT
DTSTART;TZID=America/New_York:20260606T123000
DTEND;TZID=America/New_York:20260606T134500
DTSTAMP:20260424T083112
CREATED:20260412T233750Z
LAST-MODIFIED:20260422T160459Z
UID:10001060-1780749000-1780753500@mainewine.com
SUMMARY:Chef Counter Lunch
DESCRIPTION:Discover the art and science of food and wine pairing at our Farmhouse Bar and open kitchen with Chef Lauren. Savor four unique dishes — a full meal\, each course paired with a Cellardoor wine — and explore how the right wine can enhance the flavors of every bite. An intimate\, satisfying lunch designed for curious palates. Click here to view menu and secure tickets.
URL:https://mainewine.com/event/chef-counter-lunch-11/
LOCATION:CELLARDOOR WINERY\, 367 YOUNGTOWN RD\, LINCOLNVILLE\, ME\, 04849-5427\, United States
CATEGORIES:Lincolnville
ATTACH;FMTTYPE=image/jpeg:https://mainewine.com/wp-content/uploads/chefcounter.jpg
END:VEVENT
BEGIN:VEVENT
DTSTART;TZID=America/New_York:20260606T150000
DTEND;TZID=America/New_York:20260606T160000
DTSTAMP:20260424T083112
CREATED:20260412T235716Z
LAST-MODIFIED:20260422T160500Z
UID:10001081-1780758000-1780761600@mainewine.com
SUMMARY:Four Bite Pairings
DESCRIPTION:Join us at the Farmhouse Bar with Chef Lauren for a lighter exploration of food and wine pairing. Savor four creative small bites\, each thoughtfully paired with a Cellardoor wine\, and discover how the right wine can highlight\, contrast\, and elevate the flavors of each dish. It’s a snack-sized experience with plenty to taste\, sip\, and learn along the way. Click here to view menu and secure tickets.
URL:https://mainewine.com/event/four-bite-pairings-12/
LOCATION:CELLARDOOR WINERY\, 367 YOUNGTOWN RD\, LINCOLNVILLE\, ME\, 04849-5427\, United States
CATEGORIES:Lincolnville
ATTACH;FMTTYPE=image/jpeg:https://mainewine.com/wp-content/uploads/horizontal-event-promos-for-calendar-etc-37.jpg
END:VEVENT
BEGIN:VEVENT
DTSTART;TZID=America/New_York:20260607T123000
DTEND;TZID=America/New_York:20260607T133000
DTSTAMP:20260424T083112
CREATED:20260412T235716Z
LAST-MODIFIED:20260422T160501Z
UID:10001082-1780835400-1780839000@mainewine.com
SUMMARY:Four Bite Pairings
DESCRIPTION:Join us at the Farmhouse Bar with Chef Lauren for a lighter exploration of food and wine pairing. Savor four creative small bites\, each thoughtfully paired with a Cellardoor wine\, and discover how the right wine can highlight\, contrast\, and elevate the flavors of each dish. It’s a snack-sized experience with plenty to taste\, sip\, and learn along the way. Click here to view menu and secure tickets.
URL:https://mainewine.com/event/four-bite-pairings-13/
LOCATION:CELLARDOOR WINERY\, 367 YOUNGTOWN RD\, LINCOLNVILLE\, ME\, 04849-5427\, United States
CATEGORIES:Lincolnville
ATTACH;FMTTYPE=image/jpeg:https://mainewine.com/wp-content/uploads/horizontal-event-promos-for-calendar-etc-37.jpg
END:VEVENT
BEGIN:VEVENT
DTSTART;TZID=America/New_York:20260607T140000
DTEND;TZID=America/New_York:20260607T150000
DTSTAMP:20260424T083112
CREATED:20260412T235717Z
LAST-MODIFIED:20260422T160502Z
UID:10001083-1780840800-1780844400@mainewine.com
SUMMARY:Four Bite Pairings
DESCRIPTION:Join us at the Farmhouse Bar with Chef Lauren for a lighter exploration of food and wine pairing. Savor four creative small bites\, each thoughtfully paired with a Cellardoor wine\, and discover how the right wine can highlight\, contrast\, and elevate the flavors of each dish. It’s a snack-sized experience with plenty to taste\, sip\, and learn along the way. Click here to view menu and secure tickets.
URL:https://mainewine.com/event/four-bite-pairings-14/
LOCATION:CELLARDOOR WINERY\, 367 YOUNGTOWN RD\, LINCOLNVILLE\, ME\, 04849-5427\, United States
CATEGORIES:Lincolnville
ATTACH;FMTTYPE=image/jpeg:https://mainewine.com/wp-content/uploads/horizontal-event-promos-for-calendar-etc-37.jpg
END:VEVENT
BEGIN:VEVENT
DTSTART;VALUE=DATE:20260612
DTEND;VALUE=DATE:20260615
DTSTAMP:20260424T083112
CREATED:20260413T154031Z
LAST-MODIFIED:20260413T154031Z
UID:10001100-1781222400-1781481599@mainewine.com
SUMMARY:Open 12-5
DESCRIPTION:Stop by for preset flights\, glasses of wine\, or a browse through our bottle and gift shop.  \nWalk-ins are always welcome! \nPlanning to visit with a group of 6 or more? Please email info@mainewine.com to reserve a table.
URL:https://mainewine.com/event/open-12-5-44/
LOCATION:CELLARDOOR WINERY\, 367 YOUNGTOWN RD\, LINCOLNVILLE\, ME\, 04849-5427\, United States
CATEGORIES:Lincolnville
ATTACH;FMTTYPE=image/jpeg:https://mainewine.com/wp-content/uploads/openhours3.jpg
END:VEVENT
BEGIN:VEVENT
DTSTART;TZID=America/New_York:20260612T123000
DTEND;TZID=America/New_York:20260612T134500
DTSTAMP:20260424T083112
CREATED:20260412T233847Z
LAST-MODIFIED:20260422T160505Z
UID:10001061-1781267400-1781271900@mainewine.com
SUMMARY:Chef Counter Lunch
DESCRIPTION:Discover the art and science of food and wine pairing at our Farmhouse Bar and open kitchen with Chef Lauren. Savor four unique dishes — a full meal\, each course paired with a Cellardoor wine — and explore how the right wine can enhance the flavors of every bite. An intimate\, satisfying lunch designed for curious palates. Click here to view menu and secure tickets.
URL:https://mainewine.com/event/chef-counter-lunch-12/
LOCATION:CELLARDOOR WINERY\, 367 YOUNGTOWN RD\, LINCOLNVILLE\, ME\, 04849-5427\, United States
CATEGORIES:Lincolnville
ATTACH;FMTTYPE=image/jpeg:https://mainewine.com/wp-content/uploads/chefcounter.jpg
END:VEVENT
BEGIN:VEVENT
DTSTART;TZID=America/New_York:20260612T150000
DTEND;TZID=America/New_York:20260612T160000
DTSTAMP:20260424T083112
CREATED:20260412T235719Z
LAST-MODIFIED:20260422T160503Z
UID:10001084-1781276400-1781280000@mainewine.com
SUMMARY:Four Bite Pairing
DESCRIPTION:Join us at the Farmhouse Bar with Chef Jaci for a lighter exploration of food and wine pairing. Savor four creative small bites\, each thoughtfully paired with a Cellardoor wine\, and discover how the right wine can highlight\, contrast\, and elevate the flavors of each dish. It’s a snack-sized experience with plenty to taste\, sip\, and learn along the way. Click here to view menu and secure tickets.
URL:https://mainewine.com/event/four-bite-pairing/
LOCATION:CELLARDOOR WINERY\, 367 YOUNGTOWN RD\, LINCOLNVILLE\, ME\, 04849-5427\, United States
CATEGORIES:Lincolnville
ATTACH;FMTTYPE=image/jpeg:https://mainewine.com/wp-content/uploads/horizontal-event-promos-for-calendar-etc-37.jpg
END:VEVENT
BEGIN:VEVENT
DTSTART;TZID=America/New_York:20260613T123000
DTEND;TZID=America/New_York:20260613T134500
DTSTAMP:20260424T083112
CREATED:20260412T233848Z
LAST-MODIFIED:20260422T160604Z
UID:10001062-1781353800-1781358300@mainewine.com
SUMMARY:Chef Counter Lunch
DESCRIPTION:Discover the art and science of food and wine pairing at our Farmhouse Bar and open kitchen with Chef Lauren. Savor four unique dishes — a full meal\, each course paired with a Cellardoor wine — and explore how the right wine can enhance the flavors of every bite. An intimate\, satisfying lunch designed for curious palates. Click here to view menu and secure tickets.
URL:https://mainewine.com/event/chef-counter-lunch-13/
LOCATION:CELLARDOOR WINERY\, 367 YOUNGTOWN RD\, LINCOLNVILLE\, ME\, 04849-5427\, United States
CATEGORIES:Lincolnville
ATTACH;FMTTYPE=image/jpeg:https://mainewine.com/wp-content/uploads/chefcounter.jpg
END:VEVENT
END:VCALENDAR