BEGIN:VCALENDAR
VERSION:2.0
PRODID:-//Cellardoor Winery - ECPv6.15.20//NONSGML v1.0//EN
CALSCALE:GREGORIAN
METHOD:PUBLISH
X-WR-CALNAME:Cellardoor Winery
X-ORIGINAL-URL:https://mainewine.com
X-WR-CALDESC:Events for Cellardoor Winery
REFRESH-INTERVAL;VALUE=DURATION:PT1H
X-Robots-Tag:noindex
X-PUBLISHED-TTL:PT1H
BEGIN:VTIMEZONE
TZID:America/New_York
BEGIN:DAYLIGHT
TZOFFSETFROM:-0500
TZOFFSETTO:-0400
TZNAME:EDT
DTSTART:20250309T070000
END:DAYLIGHT
BEGIN:STANDARD
TZOFFSETFROM:-0400
TZOFFSETTO:-0500
TZNAME:EST
DTSTART:20251102T060000
END:STANDARD
BEGIN:DAYLIGHT
TZOFFSETFROM:-0500
TZOFFSETTO:-0400
TZNAME:EDT
DTSTART:20260308T070000
END:DAYLIGHT
BEGIN:STANDARD
TZOFFSETFROM:-0400
TZOFFSETTO:-0500
TZNAME:EST
DTSTART:20261101T060000
END:STANDARD
BEGIN:DAYLIGHT
TZOFFSETFROM:-0500
TZOFFSETTO:-0400
TZNAME:EDT
DTSTART:20270314T070000
END:DAYLIGHT
BEGIN:STANDARD
TZOFFSETFROM:-0400
TZOFFSETTO:-0500
TZNAME:EST
DTSTART:20271107T060000
END:STANDARD
END:VTIMEZONE
BEGIN:VTIMEZONE
TZID:America/New_York
BEGIN:DAYLIGHT
TZOFFSETFROM:-0500
TZOFFSETTO:-0400
TZNAME:EDT
DTSTART:20160313T070000
END:DAYLIGHT
BEGIN:STANDARD
TZOFFSETFROM:-0400
TZOFFSETTO:-0500
TZNAME:EST
DTSTART:20161106T060000
END:STANDARD
BEGIN:DAYLIGHT
TZOFFSETFROM:-0500
TZOFFSETTO:-0400
TZNAME:EDT
DTSTART:20170312T070000
END:DAYLIGHT
BEGIN:STANDARD
TZOFFSETFROM:-0400
TZOFFSETTO:-0500
TZNAME:EST
DTSTART:20171105T060000
END:STANDARD
BEGIN:DAYLIGHT
TZOFFSETFROM:-0500
TZOFFSETTO:-0400
TZNAME:EDT
DTSTART:20180311T070000
END:DAYLIGHT
BEGIN:STANDARD
TZOFFSETFROM:-0400
TZOFFSETTO:-0500
TZNAME:EST
DTSTART:20181104T060000
END:STANDARD
BEGIN:DAYLIGHT
TZOFFSETFROM:-0500
TZOFFSETTO:-0400
TZNAME:EDT
DTSTART:20190310T070000
END:DAYLIGHT
BEGIN:STANDARD
TZOFFSETFROM:-0400
TZOFFSETTO:-0500
TZNAME:EST
DTSTART:20191103T060000
END:STANDARD
BEGIN:DAYLIGHT
TZOFFSETFROM:-0500
TZOFFSETTO:-0400
TZNAME:EDT
DTSTART:20200308T070000
END:DAYLIGHT
BEGIN:STANDARD
TZOFFSETFROM:-0400
TZOFFSETTO:-0500
TZNAME:EST
DTSTART:20201101T060000
END:STANDARD
END:VTIMEZONE
BEGIN:VEVENT
DTSTART;TZID=America/New_York:20260314T143000
DTEND;TZID=America/New_York:20260314T153000
DTSTAMP:20260423T112957
CREATED:20260222T204803Z
LAST-MODIFIED:20260222T205048Z
UID:10001044-1773498600-1773502200@mainewine.com
SUMMARY:Mixology Class with Hannah from Mosiac
DESCRIPTION:Join us for a warm\, lively afternoon of hands-on mixology designed to spark your creativity and bring people together. Whether you’re just beginning your cocktail journey or love playing bartender at home\, this welcoming experience will guide you through the art and science of crafting beautifully balanced drinks in a relaxed\, friendly setting. \nHanna Scott\, owner and creative visionary behind Mosaic of Camden\, will thoughtfully create three unique cocktails to keep you happily sipping throughout the class. You’ll enjoy a refreshing mocktail\, a delightful wine cocktail\, and a spirited signature creation — each crafted with care and creativity. Even better\, you’ll leave with recipe cards for every drink you taste\, so you can recreate the experience and share it with friends and family at home. \nCome ready to learn\, laugh\, and raise a glass together!
URL:https://mainewine.com/event/mixology-class/
LOCATION:CELLARDOOR WINERY\, 367 YOUNGTOWN RD\, LINCOLNVILLE\, ME\, 04849-5427\, United States
CATEGORIES:Other
ATTACH;FMTTYPE=image/jpeg:https://mainewine.com/wp-content/uploads/horizontal-event-promos-for-calendar-etc-36.jpg
END:VEVENT
BEGIN:VEVENT
DTSTART;TZID=America/New_York:20190928T120000
DTEND;TZID=America/New_York:20190928T160000
DTSTAMP:20260423T112957
CREATED:20190513T190437Z
LAST-MODIFIED:20190718T145800Z
UID:10000555-1569672000-1569686400@mainewine.com
SUMMARY:Food Truck Saturday: Mama Baldacci
DESCRIPTION:The Mama Baldacci food truck will be stationed at Cellardoor Winery serving up italian favorites and comfort food with a twist. Visit between 12:00 pm to 4:00 pm to enjoy a snack or a meal with a glass of Cellardoor wine.
URL:https://mainewine.com/event/food-truck-saturday-mama-baldacci-2/
LOCATION:CELLARDOOR WINERY\, 367 YOUNGTOWN RD\, LINCOLNVILLE\, ME\, 04849-5427\, United States
CATEGORIES:Lincolnville,Other
ATTACH;FMTTYPE=image/png:https://mainewine.com/wp-content/uploads/FOODTRUCK2.png
END:VEVENT
BEGIN:VEVENT
DTSTART;TZID=America/New_York:20190622T120000
DTEND;TZID=America/New_York:20190622T160000
DTSTAMP:20260423T112957
CREATED:20190513T190357Z
LAST-MODIFIED:20190513T190357Z
UID:10000554-1561204800-1561219200@mainewine.com
SUMMARY:Food Truck Saturday: Mama Baldacci
DESCRIPTION:The Mama Baldacci food truck will be stationed at Cellardoor Winery serving up italian favorites and comfort food with a twist. Visit between 12:00 pm to 4:00 pm to enjoy a snack or a meal with a glass of Cellardoor wine.
URL:https://mainewine.com/event/food-truck-saturday-mama-baldacci/
LOCATION:CELLARDOOR WINERY\, 367 YOUNGTOWN RD\, LINCOLNVILLE\, ME\, 04849-5427\, United States
CATEGORIES:Lincolnville,Other
ATTACH;FMTTYPE=image/jpeg:https://mainewine.com/wp-content/uploads/MommaBaldacci.jpeg
END:VEVENT
BEGIN:VEVENT
DTSTART;TZID=America/New_York:20180922T120000
DTEND;TZID=America/New_York:20180922T160000
DTSTAMP:20260423T112957
CREATED:20180604T232904Z
LAST-MODIFIED:20180604T232904Z
UID:10000497-1537617600-1537632000@mainewine.com
SUMMARY:Food Truck Saturday: Grillin' Brazilian
DESCRIPTION:The Grillin’ Brazillian food truck will be stationed at Cellardoor Winery serving up the best of Brazilian cuisine; emphasizing locally sourced ingredients\, grilled on the churrasqueira. Visit between 12:00 pm to 4:00 pm to enjoy a snack or a meal with a glass of Cellardoor wine. Saude!
URL:https://mainewine.com/event/food-truck-saturday-grillin-brazilian-4-2-2-2/
LOCATION:CELLARDOOR WINERY\, 367 YOUNGTOWN RD\, LINCOLNVILLE\, ME\, 04849-5427\, United States
CATEGORIES:Lincolnville,Other
ATTACH;FMTTYPE=image/jpeg:https://mainewine.com/wp-content/uploads/IMG_1002.jpg
END:VEVENT
BEGIN:VEVENT
DTSTART;TZID=America/New_York:20180908T120000
DTEND;TZID=America/New_York:20180908T160000
DTSTAMP:20260423T112957
CREATED:20180604T232834Z
LAST-MODIFIED:20180604T232834Z
UID:10000496-1536408000-1536422400@mainewine.com
SUMMARY:Food Truck Saturday: Grillin' Brazilian
DESCRIPTION:The Grillin’ Brazillian food truck will be stationed at Cellardoor Winery serving up the best of Brazilian cuisine; emphasizing locally sourced ingredients\, grilled on the churrasqueira. Visit between 12:00 pm to 4:00 pm to enjoy a snack or a meal with a glass of Cellardoor wine. Saude!
URL:https://mainewine.com/event/food-truck-saturday-grillin-brazilian-4/
LOCATION:CELLARDOOR WINERY\, 367 YOUNGTOWN RD\, LINCOLNVILLE\, ME\, 04849-5427\, United States
CATEGORIES:Lincolnville,Other
ATTACH;FMTTYPE=image/jpeg:https://mainewine.com/wp-content/uploads/IMG_1002.jpg
END:VEVENT
BEGIN:VEVENT
DTSTART;TZID=America/New_York:20180818T120000
DTEND;TZID=America/New_York:20180818T160000
DTSTAMP:20260423T112957
CREATED:20180604T232611Z
LAST-MODIFIED:20180604T232709Z
UID:10000495-1534593600-1534608000@mainewine.com
SUMMARY:Food Truck Saturday: Grillin' Brazilian
DESCRIPTION:The Grillin’ Brazillian food truck will be stationed at Cellardoor Winery serving up the best of Brazilian cuisine; emphasizing locally sourced ingredients\, grilled on the churrasqueira. Visit between 12:00 pm to 4:00 pm to enjoy a snack or a meal with a glass of Cellardoor wine. Saude!
URL:https://mainewine.com/event/food-truck-saturday-grillin-brazilian-4-2-2/
LOCATION:CELLARDOOR WINERY\, 367 YOUNGTOWN RD\, LINCOLNVILLE\, ME\, 04849-5427\, United States
CATEGORIES:Lincolnville,Other
ATTACH;FMTTYPE=image/jpeg:https://mainewine.com/wp-content/uploads/IMG_1002.jpg
END:VEVENT
BEGIN:VEVENT
DTSTART;TZID=America/New_York:20180804T120000
DTEND;TZID=America/New_York:20180804T160000
DTSTAMP:20260423T112957
CREATED:20180604T231759Z
LAST-MODIFIED:20180604T232526Z
UID:10000494-1533384000-1533398400@mainewine.com
SUMMARY:Food Truck Saturday: Grillin' Brazilian
DESCRIPTION:The Grillin’ Brazillian food truck will be stationed at Cellardoor Winery serving up the best of Brazilian cuisine; emphasizing locally sourced ingredients\, grilled on the churrasqueira. Visit between 12:00 pm to 4:00 pm to enjoy a snack or a meal with a glass of Cellardoor wine. Saude!
URL:https://mainewine.com/event/food-truck-saturday-grillin-brazilian-4-2/
LOCATION:CELLARDOOR WINERY\, 367 YOUNGTOWN RD\, LINCOLNVILLE\, ME\, 04849-5427\, United States
CATEGORIES:Lincolnville,Other
ATTACH;FMTTYPE=image/jpeg:https://mainewine.com/wp-content/uploads/IMG_1002.jpg
END:VEVENT
BEGIN:VEVENT
DTSTART;TZID=America/New_York:20180714T120000
DTEND;TZID=America/New_York:20180714T160000
DTSTAMP:20260423T112957
CREATED:20180604T231453Z
LAST-MODIFIED:20180604T231453Z
UID:10000493-1531569600-1531584000@mainewine.com
SUMMARY:Food Truck Saturday: Grillin' Brazilian
DESCRIPTION:The Grillin’ Brazillian food truck will be stationed at Cellardoor Winery serving up the best of Brazilian cuisine; emphasizing locally sourced ingredients\, grilled on the churrasqueira. Visit between 12:00 pm to 4:00 pm to enjoy a snack or a meal with a glass of Cellardoor wine. Saude!
URL:https://mainewine.com/event/food-truck-saturday-grillin-brazilian/
LOCATION:CELLARDOOR WINERY\, 367 YOUNGTOWN RD\, LINCOLNVILLE\, ME\, 04849-5427\, United States
CATEGORIES:Lincolnville,Other
ATTACH;FMTTYPE=image/jpeg:https://mainewine.com/wp-content/uploads/IMG_1002.jpg
END:VEVENT
BEGIN:VEVENT
DTSTART;TZID=America/New_York:20180630T120000
DTEND;TZID=America/New_York:20180630T160000
DTSTAMP:20260423T112957
CREATED:20180604T231136Z
LAST-MODIFIED:20180604T231136Z
UID:10000492-1530360000-1530374400@mainewine.com
SUMMARY:Food Truck Saturday: Grillin' Brazilian
DESCRIPTION:The Grillin’ Brazillian food truck will be stationed at Cellardoor Winery serving up the best of Brazilian cuisine; emphasizing locally sourced ingredients\, grilled on the churrasqueira. Visit between 12:00 pm to 4:00 pm to enjoy a snack or a meal with a glass of Cellardoor wine. Saude!
URL:https://mainewine.com/event/food-truck-saturday-grillin-brazilian-2/
LOCATION:CELLARDOOR WINERY\, 367 YOUNGTOWN RD\, LINCOLNVILLE\, ME\, 04849-5427\, United States
CATEGORIES:Lincolnville,Other
ATTACH;FMTTYPE=image/jpeg:https://mainewine.com/wp-content/uploads/IMG_1002.jpg
END:VEVENT
BEGIN:VEVENT
DTSTART;TZID=America/New_York:20170715T110000
DTEND;TZID=America/New_York:20170715T160000
DTSTAMP:20260423T112957
CREATED:20170627T131433Z
LAST-MODIFIED:20170627T133115Z
UID:10000390-1500116400-1500134400@mainewine.com
SUMMARY:Bon Appétit! Fox on The Run
DESCRIPTION:Yum! The Fox on the Run food truck will be parked at Cellardoor Winery providing tacos\, sandwiches\, and other delicacies for purchase from 11:00 pm to 4:00 pm. Want a wine pairing reccomendation? Ask us!
URL:https://mainewine.com/event/bon-appetit-fox-run-2-2/
LOCATION:CELLARDOOR WINERY\, 367 YOUNGTOWN RD\, LINCOLNVILLE\, ME\, 04849-5427\, United States
CATEGORIES:Lincolnville,Other
ATTACH;FMTTYPE=image/png:https://mainewine.com/wp-content/uploads/foxontherun.png
END:VEVENT
BEGIN:VEVENT
DTSTART;TZID=America/New_York:20170624T110000
DTEND;TZID=America/New_York:20170624T160000
DTSTAMP:20260423T112957
CREATED:20170605T221810Z
LAST-MODIFIED:20170605T221810Z
UID:10000304-1498302000-1498320000@mainewine.com
SUMMARY:Bon Appétit: Fox on The Run
DESCRIPTION:Saturday just got a whole lot better! The Fox on the Run food truck will be parked at Cellardoor Winery providing tacos\, sandwiches\, and other delicacies for purchase from 11:00 pm to 4:00 pm.
URL:https://mainewine.com/event/bon-appetit-fox-run-2/
LOCATION:CELLARDOOR WINERY\, 367 YOUNGTOWN RD\, LINCOLNVILLE\, ME\, 04849-5427\, United States
CATEGORIES:Lincolnville,Other
ATTACH;FMTTYPE=image/png:https://mainewine.com/wp-content/uploads/foxontherun.png
END:VEVENT
BEGIN:VEVENT
DTSTART;TZID=America/New_York:20170617T110000
DTEND;TZID=America/New_York:20170617T160000
DTSTAMP:20260423T112957
CREATED:20170605T220521Z
LAST-MODIFIED:20170605T221619Z
UID:10000303-1497697200-1497715200@mainewine.com
SUMMARY:Bon Appétit: Fox on The Run
DESCRIPTION:Saturday just got a whole lot better! The Fox on the Run food truck will be parked at Cellardoor Winery providing tacos\, sandwiches\, and other delicacies for purchase from 11:00 pm to 4:00 pm.
URL:https://mainewine.com/event/bon-appetit-fox-run/
LOCATION:CELLARDOOR WINERY\, 367 YOUNGTOWN RD\, LINCOLNVILLE\, ME\, 04849-5427\, United States
CATEGORIES:Lincolnville,Other
ATTACH;FMTTYPE=image/png:https://mainewine.com/wp-content/uploads/foxontherun.png
END:VEVENT
BEGIN:VEVENT
DTSTART;TZID=America/New_York:20170608T173000
DTEND;TZID=America/New_York:20170608T193000
DTSTAMP:20260423T112957
CREATED:20170605T145326Z
LAST-MODIFIED:20170605T151624Z
UID:10000302-1496943000-1496950200@mainewine.com
SUMMARY:Tapas & Tasting at Happy Endings
DESCRIPTION:Join Chef Tim Lewis of Happy Endings restaurant in Bangor for an evening of tapas and wine pairings featuring Cellardoor Winery. Tickets are available for seatings at 5:30 pm and 7:30 pm.
URL:https://mainewine.com/event/tapas-tasting-happy-endings/
LOCATION:ME
CATEGORIES:Other,Wine Pairings
ATTACH;FMTTYPE=image/jpeg:https://mainewine.com/wp-content/uploads/WinePour-1.jpg
END:VEVENT
END:VCALENDAR