BEGIN:VCALENDAR
VERSION:2.0
PRODID:-//Cellardoor Winery - ECPv6.15.20//NONSGML v1.0//EN
CALSCALE:GREGORIAN
METHOD:PUBLISH
X-WR-CALNAME:Cellardoor Winery
X-ORIGINAL-URL:https://mainewine.com
X-WR-CALDESC:Events for Cellardoor Winery
REFRESH-INTERVAL;VALUE=DURATION:PT1H
X-Robots-Tag:noindex
X-PUBLISHED-TTL:PT1H
BEGIN:VTIMEZONE
TZID:America/New_York
BEGIN:DAYLIGHT
TZOFFSETFROM:-0500
TZOFFSETTO:-0400
TZNAME:EDT
DTSTART:20180311T070000
END:DAYLIGHT
BEGIN:STANDARD
TZOFFSETFROM:-0400
TZOFFSETTO:-0500
TZNAME:EST
DTSTART:20181104T060000
END:STANDARD
BEGIN:DAYLIGHT
TZOFFSETFROM:-0500
TZOFFSETTO:-0400
TZNAME:EDT
DTSTART:20190310T070000
END:DAYLIGHT
BEGIN:STANDARD
TZOFFSETFROM:-0400
TZOFFSETTO:-0500
TZNAME:EST
DTSTART:20191103T060000
END:STANDARD
BEGIN:DAYLIGHT
TZOFFSETFROM:-0500
TZOFFSETTO:-0400
TZNAME:EDT
DTSTART:20200308T070000
END:DAYLIGHT
BEGIN:STANDARD
TZOFFSETFROM:-0400
TZOFFSETTO:-0500
TZNAME:EST
DTSTART:20201101T060000
END:STANDARD
END:VTIMEZONE
BEGIN:VEVENT
DTSTART;TZID=America/New_York:20190807T170000
DTEND;TZID=America/New_York:20190807T190000
DTSTAMP:20260421T055511
CREATED:20190709T181815Z
LAST-MODIFIED:20190709T183442Z
UID:10000431-1565197200-1565204400@mainewine.com
SUMMARY:Wednesday Pairings with Bobby featuring Regina Spices
DESCRIPTION:On Wednesday\, August 7th\, our very own Bobby Mosher will be creating bites featuring Regina Spices\, that we’ll pair with three Cellardoor wines. Join us as we explore how food and wine are elevated to new heights when paired together. Three bits\, three wines\, only $10!
URL:https://mainewine.com/event/wednesday-regina-spices-july/
LOCATION:ME
CATEGORIES:Portland,Wine Pairings
ATTACH;FMTTYPE=image/jpeg:https://mainewine.com/wp-content/uploads/ReginaSpicesNew.jpg
END:VEVENT
END:VCALENDAR