BEGIN:VCALENDAR
VERSION:2.0
PRODID:-//Cellardoor Winery - ECPv6.15.20//NONSGML v1.0//EN
CALSCALE:GREGORIAN
METHOD:PUBLISH
X-ORIGINAL-URL:https://mainewine.com
X-WR-CALDESC:Events for Cellardoor Winery
REFRESH-INTERVAL;VALUE=DURATION:PT1H
X-Robots-Tag:noindex
X-PUBLISHED-TTL:PT1H
BEGIN:VTIMEZONE
TZID:America/New_York
BEGIN:DAYLIGHT
TZOFFSETFROM:-0500
TZOFFSETTO:-0400
TZNAME:EDT
DTSTART:20180311T070000
END:DAYLIGHT
BEGIN:STANDARD
TZOFFSETFROM:-0400
TZOFFSETTO:-0500
TZNAME:EST
DTSTART:20181104T060000
END:STANDARD
BEGIN:DAYLIGHT
TZOFFSETFROM:-0500
TZOFFSETTO:-0400
TZNAME:EDT
DTSTART:20190310T070000
END:DAYLIGHT
BEGIN:STANDARD
TZOFFSETFROM:-0400
TZOFFSETTO:-0500
TZNAME:EST
DTSTART:20191103T060000
END:STANDARD
BEGIN:DAYLIGHT
TZOFFSETFROM:-0500
TZOFFSETTO:-0400
TZNAME:EDT
DTSTART:20200308T070000
END:DAYLIGHT
BEGIN:STANDARD
TZOFFSETFROM:-0400
TZOFFSETTO:-0500
TZNAME:EST
DTSTART:20201101T060000
END:STANDARD
END:VTIMEZONE
BEGIN:VEVENT
DTSTART;TZID=America/New_York:20190727T160000
DTEND;TZID=America/New_York:20190727T210000
DTSTAMP:20260421T055757
CREATED:20190226T040412Z
LAST-MODIFIED:20190228T141145Z
UID:10000405-1564243200-1564261200@mainewine.com
SUMMARY:Live in the Vines
DESCRIPTION:Join Cellardoor for a Hamptons-style Live in the Vines on Saturday\, July 27th. This popular afternoon soiree features live entertainment\, local foods\, brews\, and wine. Entertainment on the Live in the Vines stage this year includes Ember Trio\, a new age\, modern contemporary and pop violin band\, URequst Live\, an interactive experience that merges a live 10-piece band with interactive audience requests\, and more. \nYour ticket includes 5 LITV bills\, which can be used for food items or drinks. Additional LITV bills can be purchased the day of the event. Popcorn\, ice cream\, and cupcakes are our compliments – as are non-alcoholic beverages. \nFood will be available from the following local vendors: \nTrillium Caterers\nMegunticook Market\n18 Central\nMax Miller\nTao Yuen\nBlack Tie Catering\nGrillin’ Brazilian\nLaugh Loud Cupcakes\nRiver Ducks Ice cream \nJoin us in the vineyard for an afternoon of good food\, good friends\, and good fun! \nEmber Trio\n\nURequest Live
URL:https://mainewine.com/event/live-in-the-vines-3/
LOCATION:CELLARDOOR WINERY\, 367 YOUNGTOWN RD\, LINCOLNVILLE\, ME\, 04849-5427\, United States
CATEGORIES:Lincolnville,Sounds of Summer
ATTACH;FMTTYPE=image/jpeg:https://mainewine.com/wp-content/uploads/LITV.jpg
END:VEVENT
END:VCALENDAR